BEGIN:VCALENDAR
VERSION:2.0
PRODID:-//ChamberMaster//Event Calendar 2.0//EN
METHOD:PUBLISH
X-PUBLISHED-TTL:P3D
REFRESH-INTERVAL:P3D
CALSCALE:GREGORIAN
BEGIN:VEVENT
DTSTART:20180512T120000Z
DTEND:20180512T170000Z
X-MICROSOFT-CDO-ALLDAYEVENT:FALSE
SUMMARY:Spring Clean-up Day
DESCRIPTION:Spring is finally here and Woodlawn needs your help getting ready for its busy season.\n\nClean-up day is a great opportunity to meet new people and for high school students to work a few hours towards their community service requirements.  Please dress appropriately to work outside and bring work gloves\,.https://woodlawnmuseum.com/event/spring-clean-day-copy/
X-ALT-DESC;FMTTYPE=text/html:<span style="color:rgb(34\, 34\, 34)\; font-family:arial\,verdana\,sans-serif\; font-size:12px">Spring is finally here and Woodlawn needs your help getting ready for its busy season.</span><br />\n<span style="color:rgb(34\, 34\, 34)\; font-family:arial\,verdana\,sans-serif\; font-size:12px">Clean-up day is a great opportunity to meet new people and for high school students to work a few hours towards their community service requirements.&nbsp\; Please dress appropriately to work outside and bring work gloves\,.https://woodlawnmuseum.com/event/spring-clean-day-copy/</span>
LOCATION:Woodlawn Museum
UID:e.3061.855
SEQUENCE:3
DTSTAMP:20260420T213415Z
URL:https://www.visitbarharbor.com/events/details/spring-clean-up-day-855
END:VEVENT

END:VCALENDAR
