BEGIN:VCALENDAR
VERSION:2.0
PRODID:-//ChamberMaster//Event Calendar 2.0//EN
METHOD:PUBLISH
X-PUBLISHED-TTL:P3D
REFRESH-INTERVAL:P3D
CALSCALE:GREGORIAN
BEGIN:VEVENT
DTSTART:20181030T213000Z
DTEND:20181030T221500Z
X-MICROSOFT-CDO-ALLDAYEVENT:FALSE
SUMMARY:Spooky Organ Music for Halloween
DESCRIPTION:Daniel Pyle\, St. Saviours organist\, plays haunting melodic pieces on the church organ that will chill your bones and make your ears twitch with wonder! (Can that organ really sound like that?)
X-ALT-DESC;FMTTYPE=text/html:Daniel Pyle\, St. Saviours organist\, plays haunting melodic pieces on the church organ that will chill your bones and make your ears twitch with wonder! (Can that organ really sound like that?)
LOCATION:St Saviours Episcopal Church 41 Mt. Desert St Bar Harbor
UID:e.3061.4231
SEQUENCE:3
DTSTAMP:20260420T132306Z
URL:https://www.visitbarharbor.com/events/details/spooky-organ-music-for-halloween-4231
END:VEVENT

END:VCALENDAR
