BEGIN:VCALENDAR
VERSION:2.0
PRODID:-//ChamberMaster//Event Calendar 2.0//EN
METHOD:PUBLISH
X-PUBLISHED-TTL:P3D
REFRESH-INTERVAL:P3D
CALSCALE:GREGORIAN
BEGIN:VEVENT
DTSTART:20180714T140000Z
DTEND:20180714T200000Z
X-MICROSOFT-CDO-ALLDAYEVENT:FALSE
SUMMARY:Sponge Painting with Acrylics and Gay Paratore
DESCRIPTION:Sponge painting with acrylics is an easy to learn technique\, even for a novice painter. You will learn how to dab\, streak\, and smear to create clouds\, mountains\, water\, bushes\, trees\, and flowers in the grass.  You will create one\, 16 X 20 painting by the end of the session. Subject matter and sponges will be provided by the instructor\, artist Gay Paratore. You will learn how to make a variety of painting sponges\, each with a different texture which makes painting with them fast and fun.  $80 for members/$90 for non-members. A list of supplies to bring will be emailed to registered participants. Space is limited and pre-registration is required.
X-ALT-DESC;FMTTYPE=text/html:Sponge painting with acrylics is an easy to learn technique\, even for a novice painter. You will learn how to dab\, streak\, and smear to create clouds\, mountains\, water\, bushes\, trees\, and flowers in the grass.&nbsp\; You will create one\, 16 X 20 painting by the end of the session. Subject matter and sponges will be provided by the instructor\, artist <a href="http://nsartists.org/member_gallery/artwork-of-gay-paratore-nsa">Gay Paratore</a>. You will learn how to make a variety of painting sponges\, each with a different texture which makes painting with them fast and fun. &nbsp\;$80 for members/$90 for non-members. A list of supplies to bring will be emailed to registered participants. <strong>Space is limited and <a href="https://woodlawnmuseum.com/event/sponge-painting-acrylics-gay-paratore/">pre-registration is required.</a></strong>
LOCATION:Woodlawn Museum\, 19 Black House Drive\, Ellsworth\, ME 04605
UID:e.3061.2197
SEQUENCE:3
DTSTAMP:20260420T183137Z
URL:https://www.visitbarharbor.com/events/details/sponge-painting-with-acrylics-and-gay-paratore-2197
END:VEVENT

END:VCALENDAR
