BEGIN:VCALENDAR
VERSION:2.0
PRODID:-//ChamberMaster//Event Calendar 2.0//EN
METHOD:PUBLISH
X-PUBLISHED-TTL:P3D
REFRESH-INTERVAL:P3D
CALSCALE:GREGORIAN
BEGIN:VEVENT
DTSTART:20180811T140000Z
DTEND:20180811T190000Z
X-MICROSOFT-CDO-ALLDAYEVENT:FALSE
SUMMARY:Special Habitats and Plants of Acadia National Park
DESCRIPTION:Special Habitats and Plants of Acadia National Park We will explore various habitats in Acadia National Park and the plants that grow there. We will see rare species and unusual natural communities\, and learn about the Society's ongoing habitat restoration work in the park. Pack a lunch. The date of this field study changed from Saturday\, August 4\, 2018\, 10 a.m.-3 p.m. to Saturday\, August 11\, 2018\, 10 a.m.-3 p.m. Habitat: maritime spruce-fir\, coastal headland\, salt marsh\, pitch pine-broom crowberry woodland Known For: coastal communities and rare arctic plant species that reach their southern range limit in this area Difficulty: Moderate Saturday\, August 11\, 10 a.m.-3 p.m. Location: Acadia National Park\, Bar Harbor\, ME Program Code: FDT8046 Instructor: Jill Weber Fee: $47 (Member) / $58 (Nonmember) Limit: 10 Certificate: Field: FB/Adv.FB CEU: NOFA AOLCP: 5 CEUs Online Registration:
X-ALT-DESC;FMTTYPE=text/html:Special Habitats and Plants of Acadia National Park We will explore various habitats in Acadia National Park and the plants that grow there. We will see rare species and unusual natural communities\, and learn about the Society&rsquo\;s ongoing habitat restoration work in the park. Pack a lunch. The date of this field study changed from Saturday\, August 4\, 2018\, 10 a.m.-3 p.m. to Saturday\, August 11\, 2018\, 10 a.m.-3 p.m. Habitat: maritime spruce-fir\, coastal headland\, salt marsh\, pitch pine-broom crowberry woodland Known For: coastal communities and rare arctic plant species that reach their southern range limit in this area Difficulty: Moderate Saturday\, August 11\, 10 a.m.-3 p.m. Location: Acadia National Park\, Bar Harbor\, ME Program Code: FDT8046 Instructor: Jill Weber Fee: $47 (Member) / $58 (Nonmember) Limit: 10 Certificate: Field: FB/Adv.FB CEU: NOFA AOLCP: 5 CEUs Online Registration:
LOCATION:Acadia National Park\, Bar Harbor\, ME
UID:e.3061.3385
SEQUENCE:3
DTSTAMP:20260420T183240Z
URL:https://www.visitbarharbor.com/events/details/special-habitats-and-plants-of-acadia-national-park-3385
END:VEVENT

END:VCALENDAR
