BEGIN:VCALENDAR
VERSION:2.0
PRODID:-//ChamberMaster//Event Calendar 2.0//EN
METHOD:PUBLISH
X-PUBLISHED-TTL:P3D
REFRESH-INTERVAL:P3D
CALSCALE:GREGORIAN
BEGIN:VEVENT
DTSTART:20190317T190000Z
DTEND:20190317T213000Z
X-MICROSOFT-CDO-ALLDAYEVENT:FALSE
SUMMARY:Special Captain Marvel Screening with Open Captions
DESCRIPTION:The 1932 Criterion Theater is proud to be able to offer an open caption screening of Captain Marvel on Sunday\, March 16 at 3:00pm. Please join us! Carol Danvers becomes one of the universe's most powerful heroes when Earth is caught in the middle of a galactic war between two alien races. For more information or to buy tickets visit www.criteriontheatre.org
X-ALT-DESC;FMTTYPE=text/html:The 1932 Criterion Theater is proud to be able to offer an open caption screening of Captain Marvel on Sunday\, March 16 at 3:00pm. Please join us! Carol Danvers becomes one of the universe&#39\;s most powerful heroes when Earth is caught in the middle of a galactic war between two alien races. For more information or to buy tickets visit www.criteriontheatre.org
LOCATION:1932 Criterion Theatre 35 Cottage Street Bar Harbor\, ME 04609
UID:e.3061.5365
SEQUENCE:3
DTSTAMP:20260420T062348Z
URL:https://www.visitbarharbor.com/events/details/special-captain-marvel-screening-with-open-captions-5365
END:VEVENT

END:VCALENDAR
