BEGIN:VCALENDAR
VERSION:2.0
PRODID:-//ChamberMaster//Event Calendar 2.0//EN
METHOD:PUBLISH
X-PUBLISHED-TTL:P3D
REFRESH-INTERVAL:P3D
CALSCALE:GREGORIAN
BEGIN:VEVENT
DTSTART:20180818T140000Z
DTEND:20180818T170000Z
X-MICROSOFT-CDO-ALLDAYEVENT:FALSE
SUMMARY:SPCA of Hancock County Adoption event at Ellsworth Antiques Show
DESCRIPTION:Saturday\, August 18\, as part of the Ellsworth Antiques Show. 10:00 a.m. to 1:00 p.m. Find your perfect pet at the SPCA of Hancock County adoption event. Bring a bag or cans of pet food for the SPCA and receive  50% off show admission.
X-ALT-DESC;FMTTYPE=text/html:Saturday\, August 18\, as part of the Ellsworth Antiques Show. 10:00 a.m. to 1:00 p.m. Find your perfect pet at the SPCA of Hancock County adoption event. Bring a bag or cans of pet food for the SPCA and receive &nbsp\;50% off show admission.
LOCATION:Ellsworth Antiques Show at Woodlawn\, 19 Black House Drive\, Ellsworth\, ME 04605
UID:e.3061.2514
SEQUENCE:3
DTSTAMP:20260420T183229Z
URL:https://www.visitbarharbor.com/events/details/spca-of-hancock-county-adoption-event-at-ellsworth-antiques-show-2514
END:VEVENT

END:VCALENDAR
