BEGIN:VCALENDAR
VERSION:2.0
PRODID:-//ChamberMaster//Event Calendar 2.0//EN
METHOD:PUBLISH
X-PUBLISHED-TTL:P3D
REFRESH-INTERVAL:P3D
CALSCALE:GREGORIAN
BEGIN:VEVENT
DTSTART:20190807T230000Z
DTEND:20190808T010000Z
X-MICROSOFT-CDO-ALLDAYEVENT:FALSE
SUMMARY:Sonic Sea Documentary at the Criterion
DESCRIPTION:Winner of multiple Emmy awards\, "Sonic Sea" is about the importance of protecting life in our waters from the destructive effects of oceanic noise pollution.\n\nA panel discussion\, moderated by Steve Katona\, past president of College of the Atlantic and a co-founder of Allied Whale\, will follow the 60-minute documentary. The panel will include:\n\n\n	Sean Todd\, head of College of the Atlantic's Allied Whale program\n	Hon. Steven S. Honigman\, Founding Member of Quieter Oceans LLC\n	Joel Reynolds\, Western Director\, Natural Resources Defense Council\n	Capt. Robin Tyner (US Navy\, ret.)\, former senior Navy oceanographer\n\n\nAcadia Senior College is sponsoring this event and offering the film to the community free of charge - all are invited! The film will be shown at 7 p.m. on August 7\, 2019.
X-ALT-DESC;FMTTYPE=text/html:<p>Winner of multiple Emmy awards\, &quot\;Sonic Sea&quot\; is about the importance of protecting life in our waters from the destructive effects of oceanic noise pollution.</p>\n\n<p>A panel discussion\, moderated by Steve Katona\, past president of College of the Atlantic and a co-founder of Allied Whale\, will follow the 60-minute documentary. The panel will include:</p>\n\n<ul>\n	<li>Sean Todd\, head of College of the Atlantic&#39\;s Allied Whale program</li>\n	<li>Hon. Steven S. Honigman\, Founding Member of Quieter Oceans LLC</li>\n	<li>Joel Reynolds\, Western Director\, Natural Resources Defense Council</li>\n	<li>Capt. Robin Tyner (US Navy\, ret.)\, former senior Navy oceanographer</li>\n</ul>\n\n<p><strong>Acadia Senior College is sponsoring this event and offering the film to the community </strong><u>free of charge</u><strong> - all are invited! The film will be shown at 7 p.m. on August 7\, 2019.</strong></p>\n
LOCATION:Criterion Theater\, Bar Harbor\, ME.
UID:e.3061.14342
SEQUENCE:3
DTSTAMP:20260419T192254Z
URL:https://www.visitbarharbor.com/events/details/sonic-sea-documentary-at-the-criterion-14342
END:VEVENT

END:VCALENDAR
