BEGIN:VCALENDAR
VERSION:2.0
PRODID:-//ChamberMaster//Event Calendar 2.0//EN
METHOD:PUBLISH
X-PUBLISHED-TTL:P3D
REFRESH-INTERVAL:P3D
CALSCALE:GREGORIAN
BEGIN:VEVENT
DTSTART:20190224T190000Z
DTEND:20190224T200000Z
X-MICROSOFT-CDO-ALLDAYEVENT:FALSE
SUMMARY:Some Enchanted Afternoon: An Afternoon of Musical Theater through the Decades
DESCRIPTION:Join vocalist Kate Hall and pianist Vivian Hyde for "Some Enchanted Afternoon: An Afternoon of Musical Theater through the Decades" at the Jesup Memorial Library on Sunday\, Feb. 24 at 2 p.m. This concert is part of the Sundays at the Jesup Winter Concert Series. \n\n \n\nHall grew up in Waldo County and attended the University of Southern Maine\, graduating with honors and a bachelor of music in vocal performance. After college Hall moved to midcoast Maine where she has found joy and fulfillment as an active musician and actress performing at many theatrical venues including The Grand (Mary Poppins and The Producers)\, Midcoast Actors Studio (Arms and the Man)\, Bagaduce Theater Company (All My Sons\, Shakespeare Moliere Love and All that Jazz)\, Camden Opera House (The Night Kitchen and Mozart in Maine)\, and New Surry Theater (The Browning Version).  She also performs in a jazz combo called "The Three" and will be Adolfo Pirelli in Some Theatre Company's April production of Sweeney Todd: The Demon Barber of Fleet Street.  Hall lives in Ellsworth.\n\n \n\nHyde\, a pianist\, vocal director and musical director\, has been involved in choral music\, church music\, musicals\, concerts\, recitals and more than fifty musical and makes music with children\, teens\, and adults as well as her own three children.\n\n \n\nThis concert is free and open to the public. Seating is provided on a first come\, first served basis and the doors to this concert open at 1:30 p.m. There are two Sundays at the Jesup Winter Concert Series concerts in March. The first is a St. Patrick's Day concert with The Crow's Nest Sunday\, March 17 at 2 p.m. and the second is Classical with a Modern Twist with Ed Liu and Basile Tarchini on Sunday\, March 24 at 2 p.m. \n\n \n\nFor more information on any concerts in the series contact the Jesup at 207-288-4245 or mrice@jesuplibrary.org.
X-ALT-DESC;FMTTYPE=text/html:<span style="font-family:times new roman\,serif"><span style="font-size:14.0pt">Join vocalist Kate Hall and pianist Vivian Hyde for &ldquo\;Some Enchanted Afternoon: An Afternoon of Musical Theater through the Decades&rdquo\; at the Jesup Memorial Library on Sunday\, Feb. 24 at 2 p.m. This concert is part of the Sundays at the Jesup Winter Concert Series. </span></span><br />\n&nbsp\;<br />\n<span style="font-family:times new roman\,serif"><span style="font-size:14.0pt">Hall grew up in Waldo County and attended the University of Southern Maine\, graduating with honors and a bachelor of music in vocal performance. After college Hall moved to midcoast Maine where she has found joy and fulfillment as an active musician and actress performing at many theatrical venues including The Grand (<em>Mary Poppins</em> and<em> The Producers</em>)\, Midcoast Actors Studio (<em>Arms and the Man</em>)\, Bagaduce Theater Company (<em>All My Sons\, Shakespeare Moliere Love </em>and<em> All that Jazz</em>)\, Camden Opera House (<em>The Night Kitchen</em> and<em> Mozart in Maine</em>)\, and New Surry Theater (<em>The Browning Version</em>).&nbsp\; She also performs in a jazz combo called &ldquo\;The Three&rdquo\; and will be Adolfo Pirelli in Some Theatre Company&#39\;s April production of <em>Sweeney Todd: The Demon Barber of Fleet Street</em>.&nbsp\; Hall lives in Ellsworth.</span></span><br />\n&nbsp\;<br />\n<span style="font-family:times new roman\,serif"><span style="font-size:14.0pt">Hyde\, a pianist\, vocal director and musical director\, has been involved in choral music\, church music\, musicals\, concerts\, recitals and more than fifty musical and makes music with children\, teens\, and adults as well as her own three children.</span></span><br />\n&nbsp\;<br />\n<span style="font-family:times new roman\,serif"><span style="font-size:14.0pt">This concert is free and open to the public. Seating is provided on a first come\, first served basis and the doors to this concert open at 1:30 p.m. There are two Sundays at the Jesup Winter Concert Series concerts in March. The first is a St. Patrick&rsquo\;s Day concert with The Crow&rsquo\;s Nest Sunday\, March 17 at 2 p.m. and the second is Classical with a Modern Twist with Ed Liu and Basile Tarchini on Sunday\, March 24 at 2 p.m. </span></span><br />\n&nbsp\;<br />\n<span style="font-family:times new roman\,serif"><span style="font-size:14.0pt"><span>For more information on any concerts in the series contact the Jesup at <span class="gc-cs-link" id="gc-number-0" title="Call with Google Voice">207-288-4245</span> or </span><a href="mailto:mrice@jesuplibrary.org">mrice@jesuplibrary.org</a></span>.</span>
LOCATION:34 Mt. Desert St.\, Bar Harbor\, ME 04609
UID:e.3061.5131
SEQUENCE:3
DTSTAMP:20260420T063138Z
URL:https://www.visitbarharbor.com/events/details/some-enchanted-afternoon-an-afternoon-of-musical-theater-through-the-decades-5131
END:VEVENT

END:VCALENDAR
