BEGIN:VCALENDAR
VERSION:2.0
PRODID:-//ChamberMaster//Event Calendar 2.0//EN
METHOD:PUBLISH
X-PUBLISHED-TTL:P3D
REFRESH-INTERVAL:P3D
CALSCALE:GREGORIAN
BEGIN:VEVENT
DTSTART:20190314T230000Z
DTEND:20190315T000000Z
X-MICROSOFT-CDO-ALLDAYEVENT:FALSE
SUMMARY:Snowshoe Racing Talk with World Champion Jennifer Britz
DESCRIPTION:Learn more about snowshoe racing with Jennifer Britz\, a snowshoe world champion who lives in Bar Harbor at a talk at the Jesup Memorial Library on Thursday\, March 14 at 7 p.m. Britz began snowshoe racing in 2012 and has competed in both national and international races before becoming a world champion this year.\n\n \n\nLast March\, Britz raced at the U.S. National Snowshoe Championships in Prospect\, VT. There she placed 6th which earned her a spot on the U.S. women's team and the opportunity to race at the World Snowshoe Championships. At the world championships in January\, Britz finished first in the women's 40-49 Masters category\, finishing the 7-kilometer (a little over 4.3-mile) course in 40 minutes and 11.64 seconds. She now plans to race at the National Championships this March in Cable\, Wis. to try out for the U.S. women's team again. \n\n \n\nBritz will talk about the sport which the World Snowshoe Federation says is one of the fastest growing winter sports. Britz\, who is a runner and trail racer\, tried snowshoe racing for the first time seven years ago after winning a free entry into a snowshoe series at Bradbury Mountain State Park\, which features snowshoe running on three different courses.\n\n \n\nIf you snowshoe or run\, or just want to get outdoors more join Britz for this fun talk. For more information about this talk contact the Jesup at 207-288-4245 or mrice@jesuplibrary.org.
X-ALT-DESC;FMTTYPE=text/html:<span style="font-family:times new roman\,serif"><span style="font-size:14.0pt">Learn more about snowshoe racing with Jennifer Britz\, a snowshoe world champion who lives in Bar Harbor at a talk at the Jesup Memorial Library on Thursday\, March 14 at 7 p.m. Britz began snowshoe racing in 2012 and has competed in both national and international races before becoming a world champion this year.</span></span><br />\n&nbsp\;<br />\n<span style="font-family:times new roman\,serif"><span style="font-size:14.0pt">Last March\, Britz raced at the U.S. National Snowshoe Championships in Prospect\, VT. There she placed 6<sup>th</sup> which earned her a spot on the U.S. women&rsquo\;s team and the opportunity to race at the World Snowshoe Championships. At the world championships in January\, Britz finished first in the women&rsquo\;s 40-49 Masters category\, finishing the 7-kilometer (a little over 4.3-mile) course in 40 minutes and 11.64 seconds. She now plans to race at the National Championships this March in Cable\, Wis. to try out for the U.S. women&rsquo\;s team again. </span></span><br />\n&nbsp\;<br />\n<span style="font-family:times new roman\,serif"><span style="font-size:14.0pt">Britz will talk about the sport which the World Snowshoe Federation says is one of the fastest growing winter sports. Britz\, who is a runner and trail racer\, tried snowshoe racing for the first time seven years ago after winning a free entry into a snowshoe series at Bradbury Mountain State Park\, which features snowshoe running on three different courses.</span></span><br />\n&nbsp\;<br />\n<span style="font-family:times new roman\,serif"><span style="font-size:14.0pt"><span>If you snowshoe or run\, or just want to get outdoors more join Britz for this fun talk. For more information about this talk contact the Jesup at <span class="gc-cs-link" id="gc-number-0" title="Call with Google Voice">207-288-4245</span> or </span><a href="mailto:mrice@jesuplibrary.org">mrice@jesuplibrary.org</a></span>.</span>
LOCATION:Jesup Memorial Library\, 34 Mt. Desert St.\, Bar Harbor\, ME
UID:e.3061.5371
SEQUENCE:3
DTSTAMP:20260420T043506Z
URL:https://www.visitbarharbor.com/events/details/snowshoe-racing-talk-with-world-champion-jennifer-britz-5371
END:VEVENT

END:VCALENDAR
