BEGIN:VCALENDAR
VERSION:2.0
PRODID:-//ChamberMaster//Event Calendar 2.0//EN
METHOD:PUBLISH
X-PUBLISHED-TTL:P3D
REFRESH-INTERVAL:P3D
CALSCALE:GREGORIAN
BEGIN:VEVENT
DTSTART:20180728T203000Z
DTEND:20180728T223000Z
X-MICROSOFT-CDO-ALLDAYEVENT:FALSE
SUMMARY:Smiles for Seniors Community Chowder Supper
DESCRIPTION:Dinner Includes Fish Chowder\, Beverage & Dessert (Hot Dogs also available)\n\n$ 8.00 for Adults\n\n$5.00 for Kids\n\nChildren under 3 eat free\n\n\n\nHelp us raise money for an outdoor patio for the residents of Sonogee Rehabilitation and Living Center
X-ALT-DESC;FMTTYPE=text/html:Dinner Includes Fish Chowder\, Beverage &amp\; Dessert (Hot Dogs also available)<br />\n$ 8.00 for Adults<br />\n$5.00 for Kids<br />\nChildren under 3 eat free<br />\n<br />\nHelp us raise money for an outdoor patio for the residents of Sonogee Rehabilitation and Living Center
LOCATION:@ Seaside UCC 21 Summit Road\, NEH
UID:e.3061.3356
SEQUENCE:3
DTSTAMP:20260420T182515Z
URL:https://www.visitbarharbor.com/events/details/smiles-for-seniors-community-chowder-supper-3356
END:VEVENT

END:VCALENDAR
