BEGIN:VCALENDAR
VERSION:2.0
PRODID:-//ChamberMaster//Event Calendar 2.0//EN
METHOD:PUBLISH
X-PUBLISHED-TTL:P3D
REFRESH-INTERVAL:P3D
CALSCALE:GREGORIAN
BEGIN:VEVENT
DTSTART:20191109T233000Z
DTEND:20191110T010000Z
X-MICROSOFT-CDO-ALLDAYEVENT:FALSE
SUMMARY:Sip and Print
DESCRIPTION:with Liz Cutler. This quick\, technique-based procedure allows you to experiment making quality prints by incorporating some design principles. Pick your own or use our collection of native botanicals to create beautiful monotype prints without a press! We use non-toxic Akua ink to roll on bands of color and add texture with feathers and all sorts of common household bits and pieces. Wine\, nonalcoholic beverages\, and light appetizers will be served.
X-ALT-DESC;FMTTYPE=text/html:with Liz Cutler. This quick\, technique-based procedure allows you to experiment making quality prints by incorporating some design principles. Pick your own or use our collection of native botanicals to create beautiful monotype prints without a press! We use non-toxic Akua ink to roll on bands of color and add texture with feathers and all sorts of common household bits and pieces. Wine\, nonalcoholic beverages\, and light appetizers will be served.
LOCATION:ArtWaves\, 1345-A State Highway 102\, Bar Harbor.
UID:e.3061.16495
SEQUENCE:3
DTSTAMP:20260419T141506Z
URL:https://www.visitbarharbor.com/events/details/sip-and-print-16495
END:VEVENT

END:VCALENDAR
