BEGIN:VCALENDAR
VERSION:2.0
PRODID:-//ChamberMaster//Event Calendar 2.0//EN
METHOD:PUBLISH
X-PUBLISHED-TTL:P3D
REFRESH-INTERVAL:P3D
CALSCALE:GREGORIAN
BEGIN:VEVENT
DTSTART:20180707T140000Z
DTEND:20180707T200000Z
X-MICROSOFT-CDO-ALLDAYEVENT:FALSE
SUMMARY:Silk Painting with artist Jeanne Seronde Perkins
DESCRIPTION:Explore silk painting with Mount Desert Island artist Jeanne Seronde Perkins.  Using lush fabric paints and water based resist on thin white silk\, you will have a chance to play with colors making your own silk scarf or banner.  The cost is $80 for Woodlawn members and $90 for non-members and includes all materials.  Space is limited and pre-registration is required.\n\nJeanne has been making art on Mount Desert Island for over thirty years.  She specializes in 2 & 3D collage\, as well as silk painting.  Her work is exhibited in Maine\, as well as other states in the U.S. and abroad and is in over 100 private collections.
X-ALT-DESC;FMTTYPE=text/html:<div>\n<p>Explore silk painting with Mount Desert Island artist&nbsp\;<a href="http://www.jeanneserondeperkins.com/">Jeanne&nbsp\;Seronde&nbsp\;Perkins</a>.&nbsp\;&nbsp\;Using lush fabric paints and water based resist on thin white silk\, you will have a chance to play with colors making your own silk scarf or banner.&nbsp\; The cost is $80 for Woodlawn members and $90 for non-members and includes all materials. <strong>&nbsp\;Space is limited and pre-<a href="https://woodlawnmuseum.com/event/silk-painting-perkins/">registration is required.</a></strong></p>\n\n<p>Jeanne has been making art on Mount Desert Island for over thirty years.&nbsp\;&nbsp\;She specializes in 2 &amp\; 3D collage\, as well as silk painting. &nbsp\;Her work is exhibited in Maine\, as well as other states in the U.S. and abroad and is in over 100 private collections.</p>\n</div>\n
LOCATION:Woodlawn Museum\, 19 Black House Drive\, Ellsworth\, ME 04605
UID:e.3061.2190
SEQUENCE:3
DTSTAMP:20260420T200332Z
URL:https://www.visitbarharbor.com/events/details/silk-painting-with-artist-jeanne-seronde-perkins-2190
END:VEVENT

END:VCALENDAR
