BEGIN:VCALENDAR
VERSION:2.0
PRODID:-//ChamberMaster//Event Calendar 2.0//EN
METHOD:PUBLISH
X-PUBLISHED-TTL:P3D
REFRESH-INTERVAL:P3D
CALSCALE:GREGORIAN
BEGIN:VEVENT
DTSTART:20191005T130000Z
DTEND:20191005T160000Z
X-MICROSOFT-CDO-ALLDAYEVENT:FALSE
SUMMARY:Shuttle Tatting for Beginners
DESCRIPTION:with Dani Piquette. Learn the basics of this fun and portable lace-making technique. Shuttle included.
X-ALT-DESC;FMTTYPE=text/html:&nbsp\;with Dani Piquette. Learn the basics of this fun and portable lace-making technique. Shuttle included.&nbsp\;
LOCATION:ArtWaves\, 1345-A State Highway 102\, Bar Harbor
UID:e.3061.15195
SEQUENCE:3
DTSTAMP:20260419T155312Z
URL:https://www.visitbarharbor.com/events/details/shuttle-tatting-for-beginners-10-05-2019-15195
END:VEVENT

END:VCALENDAR
