BEGIN:VCALENDAR
VERSION:2.0
PRODID:-//ChamberMaster//Event Calendar 2.0//EN
METHOD:PUBLISH
X-PUBLISHED-TTL:P3D
REFRESH-INTERVAL:P3D
CALSCALE:GREGORIAN
BEGIN:VEVENT
DTSTART:20191004T220000Z
DTEND:20191005T010000Z
X-MICROSOFT-CDO-ALLDAYEVENT:FALSE
SUMMARY:Shore Path Memories a Watercolor Show by Ivan Rasmussen
DESCRIPTION:ART on West opens its last show of the season with Ivan Rasmussen's "Shore Path Memories"\, a selection of watercolors of the iconic footpath\, 6 pm to 9 pm\, October 4th at 78 West Street\, Bar Harbor during first Friday Art Walk. For a complete listing of the evening's events\, visit http://artwalkbarharbor.com
X-ALT-DESC;FMTTYPE=text/html:<p>ART on West opens its last show of the season with Ivan Rasmussen&rsquo\;s &ldquo\;Shore Path Memories&rdquo\;\, a selection of watercolors of the iconic footpath\, 6 pm to 9 pm\, October 4th at 78 West Street\, Bar Harbor during first Friday Art Walk. For a complete listing of the evening&rsquo\;s events\, visit http://artwalkbarharbor.com</p>\n\n<div>&nbsp\;</div>\n
LOCATION:ART on West\, 78 West Street\, Bar Harbor
UID:e.3061.14798
SEQUENCE:3
DTSTAMP:20260419T155636Z
URL:https://www.visitbarharbor.com/events/details/shore-path-memories-a-watercolor-show-by-ivan-rasmussen-14798
END:VEVENT

END:VCALENDAR
