BEGIN:VCALENDAR
VERSION:2.0
PRODID:-//ChamberMaster//Event Calendar 2.0//EN
METHOD:PUBLISH
X-PUBLISHED-TTL:P3D
REFRESH-INTERVAL:P3D
CALSCALE:GREGORIAN
BEGIN:VEVENT
DTSTART:20180907T223000Z
DTEND:20180908T000000Z
X-MICROSOFT-CDO-ALLDAYEVENT:FALSE
SUMMARY:“Sewn Paper Ledger Booklet Decorated with Stars”
DESCRIPTION:Join Bar Harbor paper artist Sherry Rasmussen on to create a hand-sewn ledger booklet decorated with stars to celebrate the 10th year of Acadia Night Sky Festival. The 1 1/2 hour workshop is limited to 10 students ages 12 and up. Call (207) 288-9428 to reserve.
X-ALT-DESC;FMTTYPE=text/html:Join Bar Harbor paper artist Sherry Rasmussen on to create a hand-sewn ledger booklet decorated with stars to celebrate the 10th year of Acadia Night Sky Festival. The 1 1/2 hour workshop is limited to 10 students ages 12 and up. Call (207) 288-9428 to reserve.
LOCATION:ART on West\, 78 West Street\, Bar Harbor
UID:e.3061.3732
SEQUENCE:3
DTSTAMP:20260420T150524Z
URL:https://www.visitbarharbor.com/events/details/sewn-paper-ledger-booklet-decorated-with-stars-3732
END:VEVENT

END:VCALENDAR
