BEGIN:VCALENDAR
VERSION:2.0
PRODID:-//ChamberMaster//Event Calendar 2.0//EN
METHOD:PUBLISH
X-PUBLISHED-TTL:P3D
REFRESH-INTERVAL:P3D
CALSCALE:GREGORIAN
BEGIN:VEVENT
DTSTART:20190415T180000Z
DTEND:20190415T200000Z
X-MICROSOFT-CDO-ALLDAYEVENT:FALSE
SUMMARY:Senior Mixer at the Seal Cove Auto Museum
DESCRIPTION:Cohosted by Birch Bay Retirement Village\, Parker Ridge Retirement Community\, and Friends in Action. The gathering will feature a presentation on the numerous steam cars in the museum's collection.\n\n\n	Tours of the museum's collection of early automobiles & motorcycles from the Brass Era\n	Hors d'oeuvres & Desserts will be provided by chefs from the three co-hosting organizations\n	Performance by Sheri's Dancers\n	Transportation to the event may be available by calling Friends in Action at 664-6016\n\n\nAdmission free and open to all seniors. RSVP by calling Susanne Hopkins at 288-8014 x 5211.
X-ALT-DESC;FMTTYPE=text/html:<p>Cohosted by Birch Bay Retirement Village\, Parker Ridge Retirement Community\, and Friends in Action. The gathering will feature a presentation on the numerous steam cars in the museum&#39\;s collection.</p>\n\n<ul>\n	<li>Tours of the museum&rsquo\;s collection of early automobiles &amp\; motorcycles from the Brass Era</li>\n	<li>Hors d&rsquo\;oeuvres &amp\; Desserts will be provided by chefs from the three co-hosting organizations</li>\n	<li>Performance by Sheri&#39\;s Dancers</li>\n	<li>Transportation to the event may be available by calling Friends in Action at 664-6016</li>\n</ul>\n\n<p>Admission free and open to all seniors. RSVP by calling Susanne Hopkins at 288-8014 x 5211.</p>\n
LOCATION:Seal Cove Auto Museum 1414 Tremont Road Seal Cove\, ME 04674
UID:e.3061.8818
SEQUENCE:3
DTSTAMP:20260420T043706Z
URL:https://www.visitbarharbor.com/events/details/senior-mixer-at-the-seal-cove-auto-museum-8818
END:VEVENT

END:VCALENDAR
