BEGIN:VCALENDAR
VERSION:2.0
PRODID:-//ChamberMaster//Event Calendar 2.0//EN
METHOD:PUBLISH
X-PUBLISHED-TTL:P3D
REFRESH-INTERVAL:P3D
CALSCALE:GREGORIAN
BEGIN:VEVENT
DTSTART:20180809T000000Z
DTEND:20180809T020000Z
X-MICROSOFT-CDO-ALLDAYEVENT:FALSE
SUMMARY:Seaside Cinema - Whale Rider
DESCRIPTION:Summer weekly outdoor movies under the stars!  Movie starts as soon as the sun goes down\n\nWhale Rider: Only males are allowed to ascend to chiefdom in a Maori tribe in New Zealand. This ancient custom is upset when the child selected to be the next chief dies at birth. However his twin sister\, Pai (Keisha Castle-Hughes)\, survives. At age 12\, she enlists the help of her grandmother (Vicky Haughton) and the training of her uncle (Grant Roa) to claim her birthright. But to break with convention\, she'll have to do the impossible: win over her ultra-traditional grandfather (Rawiri Paratene).\n\n\n\nClick here to download the full schedule of movies
X-ALT-DESC;FMTTYPE=text/html:Summer weekly outdoor movies under the stars!&nbsp\;&nbsp\;Movie starts as soon as the sun goes down<br />\nWhale Rider:&nbsp\;Only males are allowed to ascend to chiefdom in a Maori tribe in New Zealand. This ancient custom is upset when the child selected to be the next chief dies at birth. However his twin sister\, Pai (Keisha Castle-Hughes)\, survives. At age 12\, she enlists the help of her grandmother (Vicky Haughton) and the training of her uncle (Grant Roa) to claim her birthright. But to break with convention\, she&#39\;ll have to do the impossible: win over her ultra-traditional grandfather (Rawiri Paratene).<br />\n<br />\n<a href="https://chambermaster.blob.core.windows.net/userfiles/UserFiles/chambers/3061/File/SEASIDECINEMA8.5x11.pdf" target="_blank">Click here to download the full schedule of movies</a>
LOCATION:Summer weekly outdoor movies under the stars! Agamont Park overlooking Frenchman Bay. Agamont Park is located on the corner of West and Main Streets in Bar Harbor.
UID:e.3061.806
SEQUENCE:3
DTSTAMP:20260420T181734Z
URL:https://www.visitbarharbor.com/events/details/seaside-cinema-whale-rider-806
END:VEVENT

END:VCALENDAR
