BEGIN:VCALENDAR
VERSION:2.0
PRODID:-//ChamberMaster//Event Calendar 2.0//EN
METHOD:PUBLISH
X-PUBLISHED-TTL:P3D
REFRESH-INTERVAL:P3D
CALSCALE:GREGORIAN
BEGIN:VEVENT
DTSTART:20180816T000000Z
DTEND:20180816T020000Z
X-MICROSOFT-CDO-ALLDAYEVENT:FALSE
SUMMARY:Seaside Cinema - Silent films with live musical accompaniment
DESCRIPTION:Summer weekly outdoor movies under the stars! Movie starts as soon as the sun goes down. This week will feature silent films with live musical accompaniment.
X-ALT-DESC;FMTTYPE=text/html:Summer weekly outdoor movies under the stars! Movie starts as soon as the sun goes down. This week will feature silent films with live musical accompaniment.
LOCATION:Agamont Park overlooking Frenchman Bay. Agamont Park is located on the corner of West and Main Streets in Bar Harbor.
UID:e.3061.3080
SEQUENCE:3
DTSTAMP:20260420T183011Z
URL:https://www.visitbarharbor.com/events/details/seaside-cinema-silent-films-with-live-musical-accompaniment-3080
END:VEVENT

END:VCALENDAR
