BEGIN:VCALENDAR
VERSION:2.0
PRODID:-//ChamberMaster//Event Calendar 2.0//EN
METHOD:PUBLISH
X-PUBLISHED-TTL:P3D
REFRESH-INTERVAL:P3D
CALSCALE:GREGORIAN
BEGIN:VEVENT
DTSTART:20180822T233000Z
DTEND:20180823T013000Z
X-MICROSOFT-CDO-ALLDAYEVENT:FALSE
SUMMARY:Seaside Cinema - Indian in the Cupboard
DESCRIPTION:Summer weekly outdoor movies under the stars!  Movie starts as soon as the sun goes down.\n\nIndian in the Cupboard: On his birthday\, Omri (Hal Scardino) is given several simple gifts\, including an old wooden cupboard and a small plastic figurine of a Native American man. When he locks the toy inside the cabinet it magically comes to life as a tiny\, cagey warrior named Little Bear (Litefoot). The boy then places other toys in the cupboard and they too come to life\, even engaging in entertaining battles. But after Little Bear is wounded\, Omri begins to understand that his animate toys are not mere playthings.\n\n\n\nClick here to download the full schedule of movies
X-ALT-DESC;FMTTYPE=text/html:Summer weekly outdoor movies under the stars!&nbsp\;&nbsp\;Movie starts as soon as the sun goes down.<br />\nIndian in the Cupboard:&nbsp\;On his birthday\, Omri (Hal Scardino) is given several simple gifts\, including an old wooden cupboard and a small plastic figurine of a Native American man. When he locks the toy inside the cabinet it magically comes to life as a tiny\, cagey warrior named Little Bear (Litefoot). The boy then places other toys in the cupboard and they too come to life\, even engaging in entertaining battles. But after Little Bear is wounded\, Omri begins to understand that his animate toys are not mere playthings.<br />\n<br />\n<a href="https://chambermaster.blob.core.windows.net/userfiles/UserFiles/chambers/3061/File/SEASIDECINEMA8.5x11.pdf" target="_blank">Click here to download the full schedule of movies</a>
LOCATION:Summer weekly outdoor movies under the stars! Agamont Park overlooking Frenchman Bay. Agamont Park is located on the corner of West and Main Streets in Bar Harbor.
UID:e.3061.804
SEQUENCE:3
DTSTAMP:20260420T170222Z
URL:https://www.visitbarharbor.com/events/details/seaside-cinema-indian-in-the-cupboard-804
END:VEVENT

END:VCALENDAR
