BEGIN:VCALENDAR
VERSION:2.0
PRODID:-//ChamberMaster//Event Calendar 2.0//EN
METHOD:PUBLISH
X-PUBLISHED-TTL:P3D
REFRESH-INTERVAL:P3D
CALSCALE:GREGORIAN
BEGIN:VEVENT
DTSTART:20180712T000000Z
DTEND:20180712T020000Z
X-MICROSOFT-CDO-ALLDAYEVENT:FALSE
SUMMARY:Seaside Cinema - Chicken Run
DESCRIPTION:Summer weekly outdoor movies under the stars! Movie starts as soon as the sun goes down. \n\nChicken Run: This engaging stop-motion\, claymation adventure tells the story of an American rooster who falls in love with a gorgeous hen on a British farm. The couple decides to run away from the farm\, but they must first contend with the evil farmer who is intent on keeping them under her control. The chickens decide to attempt an escape so they don't get turned into chicken pot pies.\n\n\n\nClick here to download the full schedule of movies
X-ALT-DESC;FMTTYPE=text/html:Summer weekly outdoor movies under the stars!&nbsp\;Movie starts as soon as the sun goes down.&nbsp\;<br />\nChicken Run:&nbsp\;This engaging stop-motion\, claymation adventure tells the story of an American rooster who falls in love with a gorgeous hen on a British farm. The couple decides to run away from the farm\, but they must first contend with the evil farmer who is intent on keeping them under her control. The chickens decide to attempt an escape so they don&#39\;t get turned into chicken pot pies.<br />\n<br />\n<a href="https://chambermaster.blob.core.windows.net/userfiles/UserFiles/chambers/3061/File/SEASIDECINEMA8.5x11.pdf" target="_blank">Click here to download the full schedule of movies</a>
LOCATION:Summer weekly outdoor movies under the stars! Agamont Park overlooking Frenchman Bay. Agamont Park is located on the corner of West and Main Streets in Bar Harbor.
UID:e.3061.445
SEQUENCE:3
DTSTAMP:20260420T182353Z
URL:https://www.visitbarharbor.com/events/details/seaside-cinema-chicken-run-445
END:VEVENT

END:VCALENDAR
