BEGIN:VCALENDAR
VERSION:2.0
PRODID:-//ChamberMaster//Event Calendar 2.0//EN
METHOD:PUBLISH
X-PUBLISHED-TTL:P3D
REFRESH-INTERVAL:P3D
CALSCALE:GREGORIAN
BEGIN:VEVENT
DTSTART:20180802T000000Z
DTEND:20180802T020000Z
X-MICROSOFT-CDO-ALLDAYEVENT:FALSE
SUMMARY:Seaside Cinema - Boxtrolls
DESCRIPTION:Summer weekly outdoor movies under the stars! Movie starts as soon as the sun goes down.\n\nBoxtrolls: Eggs (Isaac Hempstead-Wright)\, an orphan\, lives with the Boxtrolls -- a community of quirky\, mischievous creatures who inhabit a cavern beneath the city of Cheesebridge. When villainous Archibald Snatcher (Ben Kingsley) hatches a plan to get rid of the pretty harmless beings\, Eggs decides to go above ground\, where he meets and befriends feisty Winnifred (Elle Fanning). Together\, Eggs and Winnifred devise a daring plan to save the Boxtrolls from extermination.\n\n\n\nClick here to download the full schedule of movies
X-ALT-DESC;FMTTYPE=text/html:Summer weekly outdoor movies under the stars!&nbsp\;Movie starts as soon as the sun goes down.<br />\nBoxtrolls:&nbsp\;Eggs (Isaac Hempstead-Wright)\, an orphan\, lives with the Boxtrolls -- a community of quirky\, mischievous creatures who inhabit a cavern beneath the city of Cheesebridge. When villainous Archibald Snatcher (Ben Kingsley) hatches a plan to get rid of the pretty harmless beings\, Eggs decides to go above ground\, where he meets and befriends feisty Winnifred (Elle Fanning). Together\, Eggs and Winnifred devise a daring plan to save the Boxtrolls from extermination.<br />\n<br />\n<a href="https://chambermaster.blob.core.windows.net/userfiles/UserFiles/chambers/3061/File/SEASIDECINEMA8.5x11.pdf" target="_blank">Click here to download the full schedule of movies</a>
LOCATION:Summer weekly outdoor movies under the stars! Agamont Park overlooking Frenchman Bay. Agamont Park is located on the corner of West and Main Streets in Bar Harbor.
UID:e.3061.805
SEQUENCE:3
DTSTAMP:20260420T164649Z
URL:https://www.visitbarharbor.com/events/details/seaside-cinema-boxtrolls-805
END:VEVENT

END:VCALENDAR
