BEGIN:VCALENDAR
VERSION:2.0
PRODID:-//ChamberMaster//Event Calendar 2.0//EN
METHOD:PUBLISH
X-PUBLISHED-TTL:P3D
REFRESH-INTERVAL:P3D
CALSCALE:GREGORIAN
BEGIN:VEVENT
DTSTART:20190814T230000Z
DTEND:20190815T020000Z
X-MICROSOFT-CDO-ALLDAYEVENT:FALSE
SUMMARY:Seaside Cinema 2019
DESCRIPTION:Summer weekly outdoor movies under the stars!  Movie starts as soon as the sun goes down.\n\n\n\nNOTE: An earlier version of this event stated that there would be a film shown on July 10th\, which was an error. We apologize for any confusion.
X-ALT-DESC;FMTTYPE=text/html:Summer weekly outdoor movies under the stars!&nbsp\;&nbsp\;Movie starts as soon as the sun goes down.<br />\n<br />\n<em>NOTE: An earlier version of this event stated that there would be a film shown on July 10th\, which was an error. We apologize for any confusion.</em>
LOCATION:Summer weekly outdoor movies under the stars! Agamont Park overlooking Frenchman Bay. Agamont Park is located on the corner of West and Main Streets in Bar Harbor.
UID:e.3061.10656
SEQUENCE:3
DTSTAMP:20260419T211238Z
URL:https://www.visitbarharbor.com/events/details/seaside-cinema-08-14-2019-10656
END:VEVENT

END:VCALENDAR
