BEGIN:VCALENDAR
VERSION:2.0
PRODID:-//ChamberMaster//Event Calendar 2.0//EN
METHOD:PUBLISH
X-PUBLISHED-TTL:P3D
REFRESH-INTERVAL:P3D
CALSCALE:GREGORIAN
BEGIN:VEVENT
DTSTART:20180719T223000Z
DTEND:20180719T233000Z
X-MICROSOFT-CDO-ALLDAYEVENT:FALSE
SUMMARY:Scientist Elli: Science Matters!
DESCRIPTION:Why does Science matter? What is matter\, anyway? Scientist Elli wants to show you some fun and exciting experiments that can help you learn about the states of matter. Practice asking questions\, making guesses\, seeing what happens\, and come away a real citizen scientist! Part of the Library's Family Concert Series\, every Thursday at 6:30 in July and August. FMI: Call the Library\, 244-7065.
X-ALT-DESC;FMTTYPE=text/html:Why does Science matter? What is matter\, anyway? Scientist Elli wants to show you some fun and exciting experiments that can help you learn about the states of matter. Practice asking questions\, making guesses\, seeing what happens\, and come away a real citizen scientist! Part of the Library&#39\;s Family Concert Series\, every Thursday at 6:30 in July and August. FMI: Call the Library\, 244-7065.
LOCATION:Southwest Harbor Public Library
UID:e.3061.3072
SEQUENCE:3
DTSTAMP:20260420T195440Z
URL:https://www.visitbarharbor.com/events/details/scientist-elli-science-matters-3072
END:VEVENT

END:VCALENDAR
