BEGIN:VCALENDAR
VERSION:2.0
PRODID:-//ChamberMaster//Event Calendar 2.0//EN
METHOD:PUBLISH
X-PUBLISHED-TTL:P3D
REFRESH-INTERVAL:P3D
CALSCALE:GREGORIAN
BEGIN:VEVENT
DTSTART:20180728T170000Z
DTEND:20180728T180000Z
X-MICROSOFT-CDO-ALLDAYEVENT:FALSE
SUMMARY:Science Rocks with The Jackson Laboratory
DESCRIPTION:Kids of all ages are invited join students from The Jackson Laboratory's Summer Student Program to discover the mysteries behind science at a special "Science Rocks!" event on Saturday\, July 28 at 1 p.m. at the Jesup Memorial Library. \n\n \n\nEach child will get a passport and can visit stations set up outside of the library to do a different scientific experiment including: Milk Magic\, Circuit Science and Berry Blueprint. After filling out their passport\, children can sample liquid nitrogen ice cream.\n\n \n\nFor more information contact the Jesup at 207-288-4245 or mcorrion@jesuplibrary.org.
X-ALT-DESC;FMTTYPE=text/html:<span style="font-family:times new roman\,serif"><span style="font-size:14.0pt">Kids of all ages are invited join students from The Jackson Laboratory&rsquo\;s Summer Student Program to discover the mysteries behind science at a special &ldquo\;Science Rocks!&rdquo\; event on Saturday\, July 28 at 1 p.m. at the Jesup Memorial Library. </span></span><br />\n&nbsp\;<br />\n<span style="font-family:times new roman\,serif"><span style="font-size:14.0pt">Each child will get a passport and can visit stations set up outside of the library to do a different scientific experiment including: Milk Magic\, Circuit Science and Berry Blueprint. After filling out their passport\, children can sample liquid nitrogen ice cream.</span></span><br />\n&nbsp\;<br />\n<span style="font-family:times new roman\,serif"><span style="font-size:14.0pt">For more information contact the Jesup at 207-288-4245 or <a href="mailto:mcorrion@jesuplibrary.org">mcorrion@jesuplibrary.org</a></span>.&nbsp\; </span><br />\n&nbsp\;
LOCATION:Jesup Memorial Library\, 34 Mt. Desert St.\, Bar Harbor\, ME 04609
UID:e.3061.3360
SEQUENCE:3
DTSTAMP:20260420T195544Z
URL:https://www.visitbarharbor.com/events/details/science-rocks-with-the-jackson-laboratory-3360
END:VEVENT

END:VCALENDAR
