BEGIN:VCALENDAR
VERSION:2.0
PRODID:-//ChamberMaster//Event Calendar 2.0//EN
METHOD:PUBLISH
X-PUBLISHED-TTL:P3D
REFRESH-INTERVAL:P3D
CALSCALE:GREGORIAN
BEGIN:VEVENT
DTSTART:20181213T190000Z
DTEND:20181213T233000Z
X-MICROSOFT-CDO-ALLDAYEVENT:FALSE
SUMMARY:Scholastic Book Fair at the Conners Emerson School
DESCRIPTION:Join the Jesup Memorial Library Young Readers Committee for their annual Scholastic Book Fair on Thursday\, Dec. 13 from 2 to 6:30 p.m. in the Conners Emerson cafeteria. Proceeds from the sale benefit both the Jesup Memorial Library and the Conners Emerson school library. \n\n \n\nMembers of the public are invited to this event and parents can check their children's classroom wish lists to purchase items for them as well. \n\n \n\nVolunteers are needed from 1:30 to 7:00 p.m.\, usually in one hour shifts. To volunteer please contact Suzie Maristany at smaristany@roadrunner.com or 207-266-7420.
X-ALT-DESC;FMTTYPE=text/html:<span style="font-family:times new roman\,serif"><span style="font-size:14.0pt">Join the Jesup Memorial Library Young Readers Committee for their annual Scholastic Book Fair on Thursday\, Dec. 13 from 2 to 6:30 p.m. in the Conners Emerson cafeteria. Proceeds from the sale benefit both the Jesup Memorial Library and the Conners Emerson school library. </span></span><br />\n&nbsp\;<br />\n<span style="font-family:times new roman\,serif"><span style="font-size:14.0pt">Members of the public are invited to this event and parents can check their children&rsquo\;s classroom wish lists to purchase items for them as well. </span></span><br />\n&nbsp\;<br />\n<span style="font-family:times new roman\,serif"><span style="font-size:14.0pt">Volunteers are needed from 1:30 to 7:00 p.m.\, usually in one hour shifts. To volunteer please contact Suzie Maristany at smaristany@roadrunner.com or 207-266-7420.</span></span>
LOCATION:Conners Emerson School cafeteria\, 11 Eagle Lake Rd.\, Bar Harbor\, ME 04609
UID:e.3061.4730
SEQUENCE:3
DTSTAMP:20260420T114440Z
URL:https://www.visitbarharbor.com/events/details/scholastic-book-fair-at-the-conners-emerson-school-4730
END:VEVENT

END:VCALENDAR
