BEGIN:VCALENDAR
VERSION:2.0
PRODID:-//ChamberMaster//Event Calendar 2.0//EN
METHOD:PUBLISH
X-PUBLISHED-TTL:P3D
REFRESH-INTERVAL:P3D
CALSCALE:GREGORIAN
BEGIN:VEVENT
DTSTART:20180508T213000Z
DTEND:20180508T230000Z
X-MICROSOFT-CDO-ALLDAYEVENT:FALSE
SUMMARY:Savitri Bess' Ireland
DESCRIPTION:Savitri Bess will give a talk about her year living in Ireland\, on the Isle of Doagh\, in Inishowen\, County Donegal. Donegal's west coast highway is known as the Wild Atlantic Way\, and Savitri was living just over a hill from the wild Atlantic and right on Trawbreaga Bay that circles the Isle of Doagh. Her experiences on the land and with her neighbors and her friends left an indelible impression in her soul. She will illustrate with slides.
X-ALT-DESC;FMTTYPE=text/html:Savitri Bess will give a talk about her year living in Ireland\, on the Isle of Doagh\, in Inishowen\, County Donegal. Donegal&#39\;s west coast highway is known as the Wild Atlantic Way\, and Savitri was living just over a hill from the wild Atlantic and right on Trawbreaga Bay that circles the Isle of Doagh. Her experiences on the land and with her neighbors and her friends left an indelible impression in her soul. She will illustrate with slides.
LOCATION:Southwest Harbor Public Library
UID:e.3061.2151
SEQUENCE:3
DTSTAMP:20260420T215733Z
URL:https://www.visitbarharbor.com/events/details/savitri-bess-ireland-2151
END:VEVENT

END:VCALENDAR
