BEGIN:VCALENDAR
VERSION:2.0
PRODID:-//ChamberMaster//Event Calendar 2.0//EN
METHOD:PUBLISH
X-PUBLISHED-TTL:P3D
REFRESH-INTERVAL:P3D
CALSCALE:GREGORIAN
BEGIN:VEVENT
DTSTART:20190112T143000Z
DTEND:20190112T163000Z
X-MICROSOFT-CDO-ALLDAYEVENT:FALSE
SUMMARY:Saturday Games Morning
DESCRIPTION:People of all ages are invited to play games at the SWH Library on Saturday mornings\, with Linda Hayward\, Sarah Corson\, and Dick Atlee. There will be a wide variety of interesting games--something for everyone. Come join the fun!!! For more information please call the Library at 244-7065.
X-ALT-DESC;FMTTYPE=text/html:People of all ages are invited to play games at the SWH Library on Saturday mornings\, with Linda Hayward\, Sarah Corson\, and Dick Atlee. There will be a wide variety of interesting games--something for everyone. Come join the fun!!! For more information please call the Library at 244-7065.
LOCATION:Southwest Harbor Public Library
UID:e.3061.4834
SEQUENCE:3
DTSTAMP:20260420T081538Z
URL:https://www.visitbarharbor.com/events/details/saturday-games-morning-4834
END:VEVENT

END:VCALENDAR
