BEGIN:VCALENDAR
VERSION:2.0
PRODID:-//ChamberMaster//Event Calendar 2.0//EN
METHOD:PUBLISH
X-PUBLISHED-TTL:P3D
REFRESH-INTERVAL:P3D
CALSCALE:GREGORIAN
BEGIN:VEVENT
DTSTART:20181128T133000Z
DTEND:20181128T220000Z
X-MICROSOFT-CDO-ALLDAYEVENT:FALSE
SUMMARY:SageCare Maine Certification Training
DESCRIPTION:Thursday\, Nov. 28\, 2018 A Training for individuals and organizations to explore skills and policies that will enhance individual and organizational capacity to work more effectively with LGBT adults. Choose one session: 8:30am - 12:30pm or 1:00-5:00pm For more information or to sign up please contact Hospice Volunteers of Hancock County at 667-2531.
X-ALT-DESC;FMTTYPE=text/html:Thursday\, Nov. 28\, 2018 A Training for individuals and organizations to explore skills and policies that will enhance individual and organizational capacity to work more effectively with LGBT adults. Choose one session: 8:30am - 12:30pm or 1:00-5:00pm For more information or to sign up please contact Hospice Volunteers of Hancock County at 667-2531.
LOCATION:Ellsworth Public Library
UID:e.3061.4285
SEQUENCE:3
DTSTAMP:20260420T113028Z
URL:https://www.visitbarharbor.com/events/details/sagecare-maine-certification-training-4285
END:VEVENT

END:VCALENDAR
