BEGIN:VCALENDAR
VERSION:2.0
PRODID:-//ChamberMaster//Event Calendar 2.0//EN
METHOD:PUBLISH
X-PUBLISHED-TTL:P3D
REFRESH-INTERVAL:P3D
CALSCALE:GREGORIAN
BEGIN:VEVENT
DTSTART:20190901T010000Z
DTEND:20190901T020000Z
X-MICROSOFT-CDO-ALLDAYEVENT:FALSE
SUMMARY:Rustic Overtones 2019
DESCRIPTION:Rustic Overtones are a seven piece rock band from Portland Maine with a discography that spans 20 years. The bands unique version of indie rock is strongly influenced by soul music\, garage punk\, jazz and psychedelic music of the 60's and 70's. "A unique sound steeped in both Earth\, Wind and Fire-style funk and late-era Beatles psychedelia." -Rolling Stone "Rustic's firepower-a skintight rhythm section\, soulful keyboards\, stinging guitars\, funky horns and the potent\, complex\, and totally engrossing voice of front man Dave Gutter" - Billboard Magazine With opening act Katie Matzel\, an up-and-coming singer and songwriter from Portland\, Maine who released her debut EP at the start of 2018.
X-ALT-DESC;FMTTYPE=text/html:Rustic Overtones are a seven piece rock band from Portland Maine with a discography that spans 20 years. The bands unique version of indie rock is strongly influenced by soul music\, garage punk\, jazz and psychedelic music of the 60&#39\;s and 70&#39\;s. &ldquo\;A unique sound steeped in both Earth\, Wind and Fire-style funk and late-era Beatles psychedelia.&quot\; -Rolling Stone &quot\;Rustic&#39\;s firepower-a skintight rhythm section\, soulful keyboards\, stinging guitars\, funky horns and the potent\, complex\, and totally engrossing voice of front man Dave Gutter&quot\; - Billboard Magazine With opening act Katie Matzel\, an up-and-coming singer and songwriter from Portland\, Maine who released her debut EP at the start of 2018.
LOCATION:1932 Criterion Theatre 35 Cottage Street Bar Harbor\, ME 04609
UID:e.3061.14248
SEQUENCE:3
DTSTAMP:20260419T191921Z
URL:https://www.visitbarharbor.com/events/details/rustic-overtones-2019-14248
END:VEVENT

END:VCALENDAR
