BEGIN:VCALENDAR
VERSION:2.0
PRODID:-//ChamberMaster//Event Calendar 2.0//EN
METHOD:PUBLISH
X-PUBLISHED-TTL:P3D
REFRESH-INTERVAL:P3D
CALSCALE:GREGORIAN
BEGIN:VEVENT
DTSTART:20181110T010000Z
DTEND:20181110T040000Z
X-MICROSOFT-CDO-ALLDAYEVENT:FALSE
SUMMARY:Rustic Overtones
DESCRIPTION:Rustic Overtones are a seven piece rock band from Portland Maine with a discography that spans 20 years. The bands unique version of indie rock is strongly influenced by soul music\, garage punk\, jazz and psychedelic music of the 60's and 70's. "A unique sound steeped in both Earth\, Wind and Fire-style funk and late-era Beatles psychedelia." -Rolling Stone "Rustic's firepower-a skintight rhythm section\, soulful keyboards\, stinging guitars\, funky horns and the potent\, complex\, and totally engrossing voice of frontman Dave Gutter" - Billboard Magazine With opening act SeepeopleS\, an alt-rock project known for its compelling blend of sunny pop melodies and intense\, brooding lyrics. Assigned Seating | Tickets $19.75\, $29.75\, and $39.75 $5 increase day-of-show
X-ALT-DESC;FMTTYPE=text/html:Rustic Overtones are a seven piece rock band from Portland Maine with a discography that spans 20 years. The bands unique version of indie rock is strongly influenced by soul music\, garage punk\, jazz and psychedelic music of the 60&#39\;s and 70&#39\;s. &ldquo\;A unique sound steeped in both Earth\, Wind and Fire-style funk and late-era Beatles psychedelia.&quot\; -Rolling Stone &quot\;Rustic&#39\;s firepower-a skintight rhythm section\, soulful keyboards\, stinging guitars\, funky horns and the potent\, complex\, and totally engrossing voice of frontman Dave Gutter&quot\; - Billboard Magazine With opening act SeepeopleS\, an alt-rock project known for its compelling blend of sunny pop melodies and intense\, brooding lyrics. Assigned Seating | Tickets $19.75\, $29.75\, and $39.75 $5 increase day-of-show
LOCATION:1932 Criterion Theatre 35 Cottage St Bar Harbor
UID:e.3061.4240
SEQUENCE:3
DTSTAMP:20260420T112921Z
URL:https://www.visitbarharbor.com/events/details/rustic-overtones-11-09-2018-4240
END:VEVENT

END:VCALENDAR
