BEGIN:VCALENDAR
VERSION:2.0
PRODID:-//ChamberMaster//Event Calendar 2.0//EN
METHOD:PUBLISH
X-PUBLISHED-TTL:P3D
REFRESH-INTERVAL:P3D
CALSCALE:GREGORIAN
BEGIN:VEVENT
DTSTART:20191005T120000Z
DTEND:20191005T133000Z
X-MICROSOFT-CDO-ALLDAYEVENT:FALSE
SUMMARY:Running for Rides Mary Parker Memorial 5k
DESCRIPTION:4th Annual Running for Rides Mary Parker Memorial 5k\n\nRegistration opens at 7:00am and the 5k starts at 8:00am\n\nStarts and ends outside of Pat's Pizza at 6 Pleasant Street Bar Harbor\, ME\n\nRegistration open via paper form email: maegan@islconnections.org or on runsignup.com at: https://runsignup.com/Race/ME/BarHarbor/4thAnnualRunningforRidesMaryParkerMemorial5KRace  \n\n\n\nLeashed furry friends welcome. Section of the race in scenic Acadia National Park\n\nRegistration fees benefit Island Connections
X-ALT-DESC;FMTTYPE=text/html:4th Annual Running for Rides Mary Parker Memorial 5k<br />\nRegistration opens at 7:00am and the 5k starts at 8:00am<br />\nStarts and ends outside of Pat&#39\;s Pizza at 6 Pleasant Street Bar Harbor\, ME<br />\nRegistration open via paper form email: maegan@islconnections.org or on runsignup.com at:&nbsp\;<a href="https://runsignup.com/Race/ME/BarHarbor/4thAnnualRunningforRidesMaryParkerMemorial5KRace" style="color: rgb(17\, 85\, 204)\; font-family: Arial\, Helvetica\, sans-serif\; font-size: small\;" target="_blank">https://runsignup.com/Race/ME/BarHarbor/4thAnnualRunningforRidesMaryParkerMemorial5KRace</a><span style="color:rgb(34\, 34\, 34)\; font-family:arial\,helvetica\,sans-serif\; font-size:small">&nbsp\;&nbsp\;</span><br />\n<br />\nLeashed furry friends welcome. Section of the race in scenic Acadia National Park<br />\nRegistration fees benefit Island Connections&nbsp\;<br />\n&nbsp\;
LOCATION:6 Pleasant Street (outside of Pat's Pizza) Bar Harbor\, ME
UID:e.3061.14791
SEQUENCE:3
DTSTAMP:20260419T173727Z
URL:https://www.visitbarharbor.com/events/details/running-for-rides-mary-parker-memorial-5k-14791
END:VEVENT

END:VCALENDAR
