BEGIN:VCALENDAR
VERSION:2.0
PRODID:-//ChamberMaster//Event Calendar 2.0//EN
METHOD:PUBLISH
X-PUBLISHED-TTL:P3D
REFRESH-INTERVAL:P3D
CALSCALE:GREGORIAN
BEGIN:VEVENT
DTSTART:20190905T130000Z
DTEND:20190905T150000Z
X-MICROSOFT-CDO-ALLDAYEVENT:FALSE
SUMMARY:Rock Wrapping
DESCRIPTION:Bring your precious rock treasures and give them extra flair. A great way to enhance your sacred mementos.
X-ALT-DESC;FMTTYPE=text/html:<span style="background-color:rgb(254\, 253\, 253)\; color:rgb(46\, 46\, 46)\; font-family:avenir-lt-w01_35-light1475496\,sans-serif\; font-size:17px">Bring your precious rock treasures and give them extra flair. A great way to enhance your sacred mementos.</span>
LOCATION:ArtWaves 1345 State Highway 102\, Bar Harbor\, ME\, USA
UID:e.3061.14659
SEQUENCE:3
DTSTAMP:20260419T173115Z
URL:https://www.visitbarharbor.com/events/details/rock-wrapping-09-05-2019-14659
END:VEVENT

END:VCALENDAR
