BEGIN:VCALENDAR
VERSION:2.0
PRODID:-//ChamberMaster//Event Calendar 2.0//EN
METHOD:PUBLISH
X-PUBLISHED-TTL:P3D
REFRESH-INTERVAL:P3D
CALSCALE:GREGORIAN
BEGIN:VEVENT
DTSTART:20181110T183000Z
DTEND:20181110T200000Z
X-MICROSOFT-CDO-ALLDAYEVENT:FALSE
SUMMARY:Robopot Tech Event
DESCRIPTION:Kids in grades five through eight are invited to make Robopots at the Jesup Memorial Library on Saturday\, Nov. 10 at 1:30 p.m. with Gizmo Garden and Christina Dorman\, the Maine State Library's STEM Liaison. Attendees craft a pot\, add a houseplant\, and then learn how to rig a pump to water the plant every 24 hours. \n\n \n\nThe making of a Robopot teaches kids math\, chemistry\, physical science\, computer science skills and uses art skills as well. Kids also get to learn about basic electric circuitry. Attendees do not have to have any computer or programming skills to get the most out of this fun and free event. \n\n \n\nRegistration is required. To register contact Mae Corrion at the Jesup at 207-288-4245 or in person. For more information about this program visit gizmogarden.com.
X-ALT-DESC;FMTTYPE=text/html:<span style="font-family:times new roman\,serif"><span style="font-size:14.0pt">Kids in grades five through eight are invited to make Robopots at the Jesup Memorial Library on Saturday\, Nov. 10 at 1:30 p.m. with Gizmo Garden and Christina Dorman\, the Maine State Library&#39\;s STEM Liaison. Attendees craft a pot\, add a houseplant\, and then learn how to rig a pump to water the plant every 24 hours. </span></span><br />\n&nbsp\;<br />\n<span style="font-family:times new roman\,serif"><span style="font-size:14.0pt">The making of a Robopot teaches kids math\, chemistry\, physical science\, computer science skills and uses art skills as well. Kids also get to learn about basic electric circuitry. Attendees do not have to have any computer or programming skills to get the most out of this fun and free event. </span></span><br />\n&nbsp\;<br />\n<span style="font-family:times new roman\,serif"><span style="font-size:14.0pt">Registration is required. To register contact Mae Corrion at the Jesup at <span class="gc-cs-link" id="gc-number-0" title="Call with Google Voice">207-288-4245</span> or in person. For more information about this program visit gizmogarden.com. </span></span><br />\n&nbsp\;
LOCATION:Jesup Memorial Library\, 34 Mt. Desert St.\, Bar Harbor\, ME 04609
UID:e.3061.4236
SEQUENCE:3
DTSTAMP:20260420T112741Z
URL:https://www.visitbarharbor.com/events/details/robopot-tech-event-4236
END:VEVENT

END:VCALENDAR
