BEGIN:VCALENDAR
VERSION:2.0
PRODID:-//ChamberMaster//Event Calendar 2.0//EN
METHOD:PUBLISH
X-PUBLISHED-TTL:P3D
REFRESH-INTERVAL:P3D
CALSCALE:GREGORIAN
BEGIN:VEVENT
DTSTART:20181209T200000Z
DTEND:20181209T220000Z
X-MICROSOFT-CDO-ALLDAYEVENT:FALSE
SUMMARY:Robinson Ballet presents The Nutcracker
DESCRIPTION:Join us for this timeless tale of Christmas dreams come to life with Clara and her beloved toy\, the Nutcracker. As the clock strikes midnight strange things begin to happen! You will be enchanted by fairies\, dolls\, soldiers\, a Snow Queen and of course a Rat King and Uncle Drosselmeyer. All brought to magical life by the extraordinary dancers of the Robinson Ballet. This is truly the family holiday event of the season!
X-ALT-DESC;FMTTYPE=text/html:Join us for this timeless tale of Christmas dreams come to life with Clara and her beloved toy\, the Nutcracker. As the clock strikes midnight strange things begin to happen! You will be enchanted by fairies\, dolls\, soldiers\, a Snow Queen and of course a Rat King and Uncle Drosselmeyer. All brought to magical life by the extraordinary dancers of the Robinson Ballet. This is truly the family holiday event of the season!
LOCATION:1932 Criterion Theatre 35 Cottage St. Bar Harbor\, ME
UID:e.3061.4794
SEQUENCE:3
DTSTAMP:20260420T103435Z
URL:https://www.visitbarharbor.com/events/details/robinson-ballet-presents-the-nutcracker-4794
END:VEVENT

END:VCALENDAR
