BEGIN:VCALENDAR
VERSION:2.0
PRODID:-//ChamberMaster//Event Calendar 2.0//EN
METHOD:PUBLISH
X-PUBLISHED-TTL:P3D
REFRESH-INTERVAL:P3D
CALSCALE:GREGORIAN
BEGIN:VEVENT
DTSTART:20191007T000000Z
DTEND:20191007T020000Z
X-MICROSOFT-CDO-ALLDAYEVENT:FALSE
SUMMARY:Robert Cray Band
DESCRIPTION:Robert Cray has been bridging the lines between Blues\, Soul\, and R&B for the past four decades\, with five Grammy wins and over 20 acclaimed albums. For his latest project\, Robert Cray & Hi Rhythm\, the Blues Hall of Famer travelled to Memphis with his friend - renowned Grammy Award winning producer Steve Jordan - to make a classic Soul album with Hi Rhythm\, the band that helped create that sound. Growing up in the Northwest\, Robert Cray listened to the Gospel of the Five Blind Boys of Mississippi\, Bobby Bland's Soul\, Jimi Hendrix's Rock guitar\, and The Beatles' Pop sounds. He would go on to bring all of these influences into play throughout his career. RObert Cray has created a sound that rises from American roots and arrives today both fresh and familiar. With opening act King Kyote!
X-ALT-DESC;FMTTYPE=text/html:Robert Cray has been bridging the lines between Blues\, Soul\, and R&amp\;B for the past four decades\, with five Grammy wins and over 20 acclaimed albums. For his latest project\, Robert Cray &amp\; Hi Rhythm\, the Blues Hall of Famer travelled to Memphis with his friend - renowned Grammy Award winning producer Steve Jordan - to make a classic Soul album with Hi Rhythm\, the band that helped create that sound. Growing up in the Northwest\, Robert Cray listened to the Gospel of the Five Blind Boys of Mississippi\, Bobby Bland&#39\;s Soul\, Jimi Hendrix&#39\;s Rock guitar\, and The Beatles&#39\; Pop sounds. He would go on to bring all of these influences into play throughout his career. RObert Cray has created a sound that rises from American roots and arrives today both fresh and familiar. With opening act King Kyote!
LOCATION:1932 Criterion Theatre 35 Cottage St Bar Harbor\, ME 04609
UID:e.3061.14258
SEQUENCE:3
DTSTAMP:20260419T155036Z
URL:https://www.visitbarharbor.com/events/details/robert-cray-band-14258
END:VEVENT

END:VCALENDAR
