BEGIN:VCALENDAR
VERSION:2.0
PRODID:-//ChamberMaster//Event Calendar 2.0//EN
METHOD:PUBLISH
X-PUBLISHED-TTL:P3D
REFRESH-INTERVAL:P3D
CALSCALE:GREGORIAN
BEGIN:VEVENT
DTSTART:20181014T200000Z
DTEND:20181014T211500Z
X-MICROSOFT-CDO-ALLDAYEVENT:FALSE
SUMMARY:Restorative Yoga
DESCRIPTION:This is a healing class that can benefit all levels of students.  The focus is on gentle stretching and restorative poses: easy\, comfortable positions held for 5-8 minutes that use props\, such as bolsters and pillows\, to support the body for deep relaxation.  Guided imagery\, meditations and pranayama (breathing exercises) may be used during long poses or at the end of class to deepen the practice. Please bring a mat and/or blanket if you have one\n\nInstructor: Erika Rosso
X-ALT-DESC;FMTTYPE=text/html:<pre>\nThis is a healing class that can benefit all levels of students. &nbsp\;The focus is on gentle stretching and restorative poses: easy\, comfortable positions held for 5-8 minutes that use props\, such as bolsters and pillows\, to support the body for deep relaxation. &nbsp\;Guided imagery\, meditations and pranayama (breathing exercises) may be used during long poses or at the end of class to deepen the practice. Please bring a mat and/or blanket if you have one</pre>\n\n<p>Instructor: Erika Rosso</p>\n
LOCATION:ArtWaves Your Community Arts Center 207-266-0010 1345-A State Highway 102 Bar Harbor\, ME 04609 office@artwavesmdi.org
UID:e.3061.3781
SEQUENCE:3
DTSTAMP:20260420T162842Z
URL:https://www.visitbarharbor.com/events/details/restorative-yoga-10-14-2018-3781
END:VEVENT

END:VCALENDAR
