BEGIN:VCALENDAR
VERSION:2.0
PRODID:-//ChamberMaster//Event Calendar 2.0//EN
METHOD:PUBLISH
X-PUBLISHED-TTL:P3D
REFRESH-INTERVAL:P3D
CALSCALE:GREGORIAN
BEGIN:VEVENT
DTSTART:20180912T200000Z
DTEND:20180912T210000Z
X-MICROSOFT-CDO-ALLDAYEVENT:FALSE
SUMMARY:RELAX & RENEW-YOGA NIDRA
DESCRIPTION:A blissful guided experience to completely relax\, restore and deeply rejuvenate the body and mind. This class allows you to completely unwind and offers a calming quality within by using guided imagery\, body scanning\, and breath awareness to enhance your vacation experience. It does not involve any physical movement of any kind so even if you have a health condition\, you can enjoy this class as it is done as you lie in stillness. This activity quiets an overactive mind\, promotes better sleep\, eases anxiety\, and calms stress. Please bring a towel to rest beneath your head and wear comfortable clothing. No pre-registration or experience necessary.
X-ALT-DESC;FMTTYPE=text/html:A blissful guided experience to completely relax\, restore and deeply rejuvenate the body and mind. This class allows you to completely unwind and offers a calming quality within by using guided imagery\, body scanning\, and breath awareness to enhance your vacation experience. It does not involve any physical movement of any kind so even if you have a health condition\, you can enjoy this class as it is done as you lie in stillness. This activity quiets an overactive mind\, promotes better sleep\, eases anxiety\, and calms stress. Please bring a towel to rest beneath your head and wear comfortable clothing. No pre-registration or experience necessary.
LOCATION:Bar Harbor Inn & Spa 1 Newport Drive Bar Harbor\, ME
UID:e.3061.2753
SEQUENCE:3
DTSTAMP:20260420T182041Z
URL:https://www.visitbarharbor.com/events/details/relax-renew-yoga-nidra-09-12-2018-2753
END:VEVENT

END:VCALENDAR
