BEGIN:VCALENDAR
VERSION:2.0
PRODID:-//ChamberMaster//Event Calendar 2.0//EN
METHOD:PUBLISH
X-PUBLISHED-TTL:P3D
REFRESH-INTERVAL:P3D
CALSCALE:GREGORIAN
BEGIN:VEVENT
DTSTART:20190913T000000Z
DTEND:20190913T035500Z
X-MICROSOFT-CDO-ALLDAYEVENT:FALSE
SUMMARY:Reggae Thursday's with DJ Anthony
DESCRIPTION:Late night Reggae Dance party with DJ Anthony every Thursday at Bar Harbor BeerWorks 9pm to 1am
X-ALT-DESC;FMTTYPE=text/html:Late night Reggae Dance party with DJ Anthony every Thursday at Bar Harbor BeerWorks 9pm to 1am
LOCATION:Bar Harbor BeerWorks 119 Main St Bar Harbor Me 04609
UID:e.3061.12062
SEQUENCE:3
DTSTAMP:20260419T211658Z
URL:https://www.visitbarharbor.com/events/details/reggae-thursday-s-with-dj-anthony-09-12-2019-12062
END:VEVENT

END:VCALENDAR
