BEGIN:VCALENDAR
VERSION:2.0
PRODID:-//ChamberMaster//Event Calendar 2.0//EN
METHOD:PUBLISH
X-PUBLISHED-TTL:P3D
REFRESH-INTERVAL:P3D
CALSCALE:GREGORIAN
BEGIN:VEVENT
DTSTART:20191010T230000Z
DTEND:20191011T000000Z
X-MICROSOFT-CDO-ALLDAYEVENT:FALSE
SUMMARY:Recipe Queens: Marjorie Standish\, Brownie Schrumpf and the Evolution of the Cooking Column in Maine
DESCRIPTION:Marjorie Standish wrote a cooking column for the Maine Sunday Telegram for 25 years sharing her recipes and expertise and Mildred "Brownie" Schrumpf did the same for the Bangor Daily News for 40 years. Learn more about the women and their impact on cooking in Maine with Sandy Oliver on Thursday\, Oct. 10 at 7 p.m. at the Jesup Memorial Library. Oliver\, who writes the "TasteBuds" column in the Bangor Daily News\, is the editor of the newly released "Cooking Maine Style: Tried and True Recipes from Down East\," which is a collection of Standish's recipes. \n\n \n\nBoth Standish and Schrumpf were modern\, twentieth century professionals with similar educations and career paths. They both wrote columns for years and published books sharing their recipes\, which have often become Maine family classics. Their books show an evolution of Maine cooking from baked bean traditions through international cuisines. Both women relied on correspondence with readers to collect recipes\, provide advice and share experiences. In an era before online social media\, they connected their readers and their kitchens with each other. \n\n \n\nCooking columns in a print newspaper are not entirely history\; Oliver continues to write a weekly cooking column following the footsteps of these influential writers. Her sixteen years' experience writing has shown how the more things change the more they stay the same. While compiling "Cooking Maine Style\," saw the history of 20th century Maine food unfold\, and recognized her own joys and challenges in the writing of these two Maine food writers who paved the way for her. \n\n \n\nOliver is a food writer\, gardener and cook. In addition to her weekly column in the Bangor Daily News her work appears in Downeast Magazine\, Maine Boats\, Homes & Harbors magazine and The Working Waterfront. She is the author of "Maine Home Cooking: 175 Recipes from Downeast Kitchens" which features recipes collected from her column. Oliver has worked a food historian since 1971\, and is the author two books on food history "Saltwater Foodways: New Englanders and Their Foods at Sea and Ashore in the 19th Century\;" and "The Food of Colonial and Federal America" and is the co-author of "Giving Thanks: Thanksgiving History and Recipes from Pilgrims to Pumpkin Pie." Oliver speaks to organizations and conducts classes and workshops in food history\, and in sustainable gardening and cooking. \n\n \n\nBooks will be on sale that night courtesy of Sherman's Books. For more information on this talk\, contact the Jesup at 207-288-4245.
X-ALT-DESC;FMTTYPE=text/html:<span style="font-family:times new roman\,serif"><span style="font-size:14.0pt">Marjorie Standish wrote a cooking column for the <em>Maine Sunday Telegram</em> for 25 years sharing her recipes and expertise and Mildred &ldquo\;Brownie&rdquo\; Schrumpf did the same for the <em>Bangor Daily News</em> for 40 years. Learn more about the women and their impact on cooking in Maine with Sandy Oliver on Thursday\, Oct. 10 at 7 p.m. at the Jesup Memorial Library. Oliver\, who writes the &ldquo\;TasteBuds&rdquo\; column in the <em>Bangor Daily News</em>\, is the editor of the newly released &ldquo\;Cooking Maine Style: Tried and True Recipes from Down East\,&rdquo\; which is a collection of Standish&rsquo\;s recipes. </span></span><br />\n&nbsp\;<br />\n<span style="font-family:times new roman\,serif"><span style="font-size:14.0pt">Both Standish and Schrumpf were modern\, twentieth century professionals with similar educations and career paths. They both wrote columns for years and published books sharing their recipes\, which have often become Maine family classics. Their books show an evolution of Maine cooking from baked bean traditions through international cuisines. Both women relied on correspondence with readers to collect recipes\, provide advice and share experiences. In an era before online social media\, they connected their readers and their kitchens with each other. </span></span><br />\n&nbsp\;<br />\n<span style="font-family:times new roman\,serif"><span style="font-size:14.0pt">Cooking columns in a print newspaper are not entirely history\; Oliver continues to write a weekly cooking column following the footsteps of these influential writers. Her sixteen years&rsquo\; experience writing has shown how the more things change the more they stay the same. While compiling &ldquo\;Cooking Maine Style\,&rdquo\; saw the history of 20th century Maine food unfold\, and recognized her own joys and challenges in the writing of these two Maine food writers who paved the way for her. </span></span><br />\n&nbsp\;<br />\n<span style="font-family:times new roman\,serif"><span style="font-size:14.0pt">Oliver is a food writer\, gardener and cook. In addition to her weekly column in the <em>Bangor Daily News</em> her work appears in <em>Downeast Magazine</em>\, <em>Maine Boats\, Homes &amp\; Harbors</em> magazine and <em>The Working Waterfront</em>. She is the author of &ldquo\;Maine Home Cooking: 175 Recipes from Downeast Kitchens&rdquo\; which features recipes collected from her column. Oliver has worked a food historian since 1971\, and is the author two books on food history &ldquo\;Saltwater Foodways: New Englanders and Their Foods at Sea and Ashore in the 19th Century\;&rdquo\; and &ldquo\;The Food of Colonial and Federal America&rdquo\; and is the co-author of &ldquo\;Giving Thanks: Thanksgiving History and Recipes from Pilgrims to Pumpkin Pie.&rdquo\; Oliver speaks to organizations and conducts classes and workshops in food history\, and in sustainable gardening and cooking. </span></span><br />\n&nbsp\;<br />\n<span style="font-family:times new roman\,serif"><span style="font-size:14.0pt">Books will be on sale that night courtesy of Sherman&rsquo\;s Books. For more information on this talk\, contact the Jesup at 207-288-4245. </span></span>
LOCATION:Jesup Memorial Library\, 34 Mt. Desert St.\, Bar Harbor\, ME 04609
UID:e.3061.14805
SEQUENCE:3
DTSTAMP:20260419T160423Z
URL:https://www.visitbarharbor.com/events/details/recipe-queens-marjorie-standish-brownie-schrumpf-and-the-evolution-of-the-cooking-column-in-maine-14805
END:VEVENT

END:VCALENDAR
