BEGIN:VCALENDAR
VERSION:2.0
PRODID:-//ChamberMaster//Event Calendar 2.0//EN
METHOD:PUBLISH
X-PUBLISHED-TTL:P3D
REFRESH-INTERVAL:P3D
CALSCALE:GREGORIAN
BEGIN:VEVENT
DTSTART:20180522T230000Z
DTEND:20180523T003000Z
X-MICROSOFT-CDO-ALLDAYEVENT:FALSE
SUMMARY:Ranked Choice Voting Presentation
DESCRIPTION:Learn about Ranked Choice Voting before June 12 Primary Election
X-ALT-DESC;FMTTYPE=text/html:Learn about Ranked Choice Voting before June 12 Primary Election
LOCATION:YWCA Mount Desert Island 36 Mt. Desert St. Bar Harbor
UID:e.3061.2525
SEQUENCE:3
DTSTAMP:20260420T213405Z
URL:https://www.visitbarharbor.com/events/details/ranked-choice-voting-presentation-2525
END:VEVENT

END:VCALENDAR
