BEGIN:VCALENDAR
VERSION:2.0
PRODID:-//ChamberMaster//Event Calendar 2.0//EN
METHOD:PUBLISH
X-PUBLISHED-TTL:P3D
REFRESH-INTERVAL:P3D
CALSCALE:GREGORIAN
BEGIN:VEVENT
DTSTART:20190112T180000Z
DTEND:20190112T190000Z
X-MICROSOFT-CDO-ALLDAYEVENT:FALSE
SUMMARY:Rag Doll Storytime with Author Karen Toothaker “The Rag Doll Gift”
DESCRIPTION:Join author Karen Richards Toothaker at a special story time on Saturday\, Jan. 12 at 1 p.m. at the Jesup Memorial Library. Toothaker\, the author of "The Rag Doll Gift" will be reading from her book and teaching attendees how to make their own no-sew rag doll. \n\n \n\n"The Rag Doll Gift" is based on a tradition of Toothaker's family\, and tells the story of Kimberly. Kimberly is turning six years old\; and like all the children in her family\, she is looking forward to getting a rag doll from her grandmother to celebrate the day. ?Toothaker writes\, "This gentle story is about loss\, but more than that it is about the strength of family\, the comfort of traditions and the boundlessness of love." After Toothaker reads her story\, she will teach participants how to make their own rag doll to bring home. \n\n \n\nToothaker is an early childhood educator\, community organizer\, Life Is Good playmaker\, and children's book author. She has taught in preschools classrooms for more than 40 years and has first-hand experience with the effectiveness of picture books to stimulate the mind\, open conversation\, offer emotional support and provide us all with the fundamentals of understanding ourselves and others. \n\n \n\nThis event is suitable for both children and adults and registration is requested. Copies of her book will be on sale at the event. For more information about the Toothaker visit www.inyourheartbooks.com and for more information about the story time or to register contact the Jesup at 207-288-4245.
X-ALT-DESC;FMTTYPE=text/html:<span style="font-family:times new roman\,serif"><span style="font-size:14.0pt">Join author Karen Richards Toothaker at a special story time on Saturday\, Jan. 12 at 1 p.m. at the Jesup Memorial Library. Toothaker\, the author of &ldquo\;The Rag Doll Gift&rdquo\; will be reading from her book and teaching attendees how to make their own no-sew rag doll. </span></span><br />\n&nbsp\;<br />\n<span style="font-family:times new roman\,serif"><span style="font-size:14.0pt">&ldquo\;The Rag Doll Gift&rdquo\; is based on a tradition of Toothaker&rsquo\;s family\, and tells the story of Kimberly. Kimberly is turning six years old\; and like all the children in her family\, she is looking forward to getting a rag doll from her grandmother to celebrate the day. ?Toothaker writes\, &ldquo\;This gentle story is about loss\, but more than that it is about the strength of family\, the comfort of traditions and the boundlessness of love.&rdquo\; After Toothaker reads her story\, she will teach participants how to make their own rag doll to bring home. </span></span><br />\n&nbsp\;<br />\n<span style="font-family:times new roman\,serif"><span style="font-size:14.0pt">Toothaker is an early childhood educator\, community organizer\, Life Is Good playmaker\, and children&#39\;s book author. She has taught in preschools classrooms for more than 40 years and has first-hand experience with the effectiveness of picture books to stimulate the mind\, open conversation\, offer emotional support and provide us all with the fundamentals of understanding ourselves and others. </span></span><br />\n&nbsp\;<br />\n<span style="font-family:times new roman\,serif"><span style="font-size:14.0pt">This event is suitable for both children and adults and registration is requested. Copies of her book will be on sale at the event. For more information about the Toothaker visit <a href="http://www.inyourheartbooks.com/">www.inyourheartbooks.com</a></span> and for more information about the story time or to register contact the Jesup at 207-288-4245. </span>
LOCATION:Jesup Memorial Library\, 34 Mt. Desert St.\, Bar Harbor\, ME 04609
UID:e.3061.4841
SEQUENCE:3
DTSTAMP:20260420T081922Z
URL:https://www.visitbarharbor.com/events/details/rag-doll-storytime-with-author-karen-toothaker-the-rag-doll-gift-4841
END:VEVENT

END:VCALENDAR
