BEGIN:VCALENDAR
VERSION:2.0
PRODID:-//ChamberMaster//Event Calendar 2.0//EN
METHOD:PUBLISH
X-PUBLISHED-TTL:P3D
REFRESH-INTERVAL:P3D
CALSCALE:GREGORIAN
BEGIN:VEVENT
DTSTART:20191025T000000Z
DTEND:20191025T020000Z
X-MICROSOFT-CDO-ALLDAYEVENT:FALSE
SUMMARY:Purple Brainz: A Halloween Tribute 2 Prince
DESCRIPTION:Dressed 2 the 9's\, Dean Ford embodies PRINCE with every fiber of his being\, giving you a show as close as you will ever get to the real thing. Ford and company perform all the hits you know and love\, including the "Purple Rain" album in its entirety. But\, it's more than just the songs. He's got the look\, the moves\, and the sounds down jaw-droppingly well. So well\, you'll forget it's only a tribute. (All Ages)
X-ALT-DESC;FMTTYPE=text/html:Dressed 2 the 9&#39\;s\, Dean Ford embodies PRINCE with every fiber of his being\, giving you a show as close as you will ever get to the real thing. Ford and company perform all the hits you know and love\, including the &ldquo\;Purple Rain&rdquo\; album in its entirety. But\, it&#39\;s more than just the songs. He&#39\;s got the look\, the moves\, and the sounds down jaw-droppingly well. So well\, you&#39\;ll forget it&#39\;s only a tribute. (All Ages)
LOCATION:1932 Criterion Theatre 35 Cottage Street Bar Harbor\, ME 04609
UID:e.3061.15110
SEQUENCE:3
DTSTAMP:20260419T155812Z
URL:https://www.visitbarharbor.com/events/details/purple-brainz-a-halloween-tribute-2-prince-15110
END:VEVENT

END:VCALENDAR
