BEGIN:VCALENDAR
VERSION:2.0
PRODID:-//ChamberMaster//Event Calendar 2.0//EN
METHOD:PUBLISH
X-PUBLISHED-TTL:P3D
REFRESH-INTERVAL:P3D
CALSCALE:GREGORIAN
BEGIN:VEVENT
DTSTART:20181025T170000Z
DTEND:20181026T000000Z
X-MICROSOFT-CDO-ALLDAYEVENT:FALSE
SUMMARY:Pumpkin Festival!
DESCRIPTION:Join in the fun at the Pumpkin Festival! Pumpkin Carving: 1:00-5:00 pm Supplies provided while they last OR bring your own! Local musicians will provide live music! (Library closed from 5-5:45 for set up) Spooky Science with Scientist Elli: 6:00 pm Jack-o-Lantern Display on the Stone Wall: 7:00 Hot Cider\, Popcorn & Music! If bad weather we'll carve at Harbor House.
X-ALT-DESC;FMTTYPE=text/html:Join in the fun at the Pumpkin Festival! Pumpkin Carving: 1:00-5:00 pm Supplies provided while they last OR bring your own! Local musicians will provide live music! (Library closed from 5-5:45 for set up) Spooky Science with Scientist Elli: 6:00 pm Jack-o-Lantern Display on the Stone Wall: 7:00 Hot Cider\, Popcorn &amp\; Music! If bad weather we&rsquo\;ll carve at Harbor House.
LOCATION:Southwest Harbor Public Library If bad weather we'll carve at Harbor House.
UID:e.3061.3980
SEQUENCE:3
DTSTAMP:20260420T131926Z
URL:https://www.visitbarharbor.com/events/details/pumpkin-festival-3980
END:VEVENT

END:VCALENDAR
