BEGIN:VCALENDAR
VERSION:2.0
PRODID:-//ChamberMaster//Event Calendar 2.0//EN
METHOD:PUBLISH
X-PUBLISHED-TTL:P3D
REFRESH-INTERVAL:P3D
CALSCALE:GREGORIAN
BEGIN:VEVENT
DTSTART:20190816T203000Z
DTEND:20190816T230000Z
X-MICROSOFT-CDO-ALLDAYEVENT:FALSE
SUMMARY:Prologue Book Sale at the Jesup
DESCRIPTION:Get first pick of the thousands of items on sale at the Jesup Memorial Library's 50th Annual Book Sale at "The Prologue" on Friday\, Aug. 16 from 4:30 to 7 p.m. At this ticketed event\, attendees can enjoy food and drinks while listening to music from the Beech Mountain Project\, and shop the sale before its official start on Saturday\, August 17. Tickets to this fundraising event at $25 each and can be purchased in person at the Jesup\, by calling 207-288-4245 or online at jesuplibrary.org/prologue.\n\n \n\nVolunteers are needed before\, during and after the sale. Volunteers are needed before the sale in our book brigade that moves books from the basement and then to help sort and price books. In addition\, volunteers are needed to help sell books the day of the sale and help move books again on Saturday\, Aug. 24. All volunteers receive two free tickets to the Prologue Sale on Friday. \n\n \n\nFor more information or to volunteer\, please contact the Jesup at 207-288-4245.
X-ALT-DESC;FMTTYPE=text/html:<span style="font-family:times new roman\,serif"><span style="font-size:14.0pt">Get first pick of the thousands of items on sale at the Jesup Memorial Library&rsquo\;s 50th Annual Book Sale at &ldquo\;The Prologue&rdquo\; on Friday\, Aug. 16 from 4:30 to 7 p.m. At this ticketed event\, attendees can enjoy food and drinks while listening to music from the Beech Mountain Project\, and shop the sale before its official start on Saturday\, August 17. </span></span><span style="font-family:times new roman\,serif"><span style="font-size:14.0pt">Tickets to this fundraising event at $25 each and can be purchased in person at the Jesup\, by calling 207-288-4245 or online at jesuplibrary.org/prologue.</span></span><br />\n&nbsp\;<br />\n<span style="font-family:times new roman\,serif"><span style="font-size:14.0pt">Volunteers are needed before\, during and after the sale. Volunteers are needed before the sale in our book brigade that moves books from the basement and then to help sort and price books. In addition\, volunteers are needed to help sell books the day of the sale and help move books again on Saturday\, Aug. 24. All volunteers receive two free tickets to the Prologue Sale on Friday. </span></span><br />\n&nbsp\;<br />\n<span style="font-family:times new roman\,serif"><span style="font-size:14.0pt">For more information or to volunteer\, please contact the Jesup at 207-288-4245. </span></span>
LOCATION:Jesup Memorial Library\, 34 Mt. Desert St.\, Bar Harbor\, ME 04609
UID:e.3061.14285
SEQUENCE:3
DTSTAMP:20260419T211954Z
URL:https://www.visitbarharbor.com/events/details/prologue-book-sale-at-the-jesup-14285
END:VEVENT

END:VCALENDAR
