BEGIN:VCALENDAR
VERSION:2.0
PRODID:-//ChamberMaster//Event Calendar 2.0//EN
METHOD:PUBLISH
X-PUBLISHED-TTL:P3D
REFRESH-INTERVAL:P3D
CALSCALE:GREGORIAN
BEGIN:VEVENT
DTSTART:20180518T190000Z
DTEND:20180518T210000Z
X-MICROSOFT-CDO-ALLDAYEVENT:FALSE
SUMMARY:Professional Development Workshop: Tech Tapas
DESCRIPTION:Dave Charron of Compusult\, Inc will present Anchorspace's May Professional Development Workshop   Tech Tapas.\n\nHe'll be serving up 50+ small\, savory bytes of tech tips to help you Work Smarter. Learn a little bit about a whole lot. See what's out there  Guaranteed you will learn at least 10 new things!!!\n\n  what the hell is The Cloud and how do I use it\n\n  how to process credit cards when the power goes out\n\n  3 quick tips to clean your PC or Mac   no more slooooowww\n\n  expand your Gmail functionality\n\n  password management\n\n  backup your data\n\n  backup pics from your phone and see all of them anywhere   organize them too\n\n  tips for offering public Wi-Fi\n\n  what are the different parts of my network\n\n  how can I use e-signatures\n\n  Google Docs & Drive   beginner\, intermediate & advanced in 10 minutes!\n\n  collaboration tools\n\n  what is 2 step authentication and why should I absolutely be using this simple powerful security\n\n  specs to buy a computer\n\n  how to share your screen if you have a presentation to do remotely\n\n  no internet   what do I do?\n\n  maintenance of your Google Business page   you have one\, right???\n\n  much more \n\nSubmit your questions now to have them included http://bit.ly/wsmTechTapas\n\nDave has 18 years experience helping small businesses use technology to Work Smarter \n\n\n\nThere will be a Networking Happy Hour following the presentation  \;)
X-ALT-DESC;FMTTYPE=text/html:<div>\n<p>Dave Charron of Compusult\, Inc will present Anchorspace&#39\;s May Professional Development Workshop &ndash\; Tech Tapas.</p>\n\n<p>He&rsquo\;ll be serving up <strong>50+</strong> small\, savory bytes of <strong>tech tips to help you Work Smarter</strong>. Learn a little bit about a whole lot. See what&rsquo\;s out there&hellip\; Guaranteed you will learn at least 10 new things!!!</p>\n\n<p>&bull\; what the hell is The Cloud and how do I use it<br />\n&bull\; how to process credit cards when the power goes out<br />\n&bull\; 3 quick tips to clean your PC or Mac &ndash\; no more slooooowww<br />\n&bull\; expand your Gmail functionality<br />\n&bull\; password management<br />\n&bull\; backup your data<br />\n&bull\; backup pics from your phone and see all of them anywhere &ndash\; organize them too<br />\n&bull\; tips for offering public Wi-Fi<br />\n<span style="font-family:inherit">&bull\; what are the different parts of my network<br />\n&bull\; how can I use e-signatures<br />\n&bull\; Google Docs &amp\; Drive &ndash\; beginner\, intermediate &amp\; advanced in 10 minutes!<br />\n&bull\; collaboration tools<br />\n&bull\; what is 2 step authentication and why should I absolutely be using this simple powerful security<br />\n&bull\; specs to buy a computer<br />\n&bull\; how to share your screen if you have a presentation to do remotely<br />\n&bull\; no internet &ndash\; what do I do?<br />\n&bull\; maintenance of your Google Business page &ndash\; you have one\, right???<br />\n&bull\; much more&hellip\;</span></p>\n\n<p>Submit your questions now to have them included&nbsp\;<a href="http://bit.ly/wsmTechTapas" rel="nofollow noopener" style="font-family: inherit\; font-weight: inherit\; font-style: inherit\; margin: 0px\; padding: 0px\; vertical-align: baseline\; border: 0px\; outline: 0px\; color: rgb(225\, 18\, 42)\; text-decoration-line: none\;" target="_blank">http://bit.ly/wsmTechTapas</a></p>\n\n<p>Dave has 18 years experience helping small businesses use technology to Work Smarter&nbsp\;</p>\n</div>\n<br />\n<span style="color:rgb(34\, 34\, 34)\; font-family:arial\,verdana\,sans-serif\; font-size:12px">There will be a Networking Happy Hour following the presentation&nbsp\; \;)</span>
LOCATION:Anchorspace 337 Main St Bar Harbor
UID:e.3061.885
SEQUENCE:3
DTSTAMP:20260420T213335Z
URL:https://www.visitbarharbor.com/events/details/professional-development-workshop-tech-tapas-885
END:VEVENT

END:VCALENDAR
