BEGIN:VCALENDAR
VERSION:2.0
PRODID:-//ChamberMaster//Event Calendar 2.0//EN
METHOD:PUBLISH
X-PUBLISHED-TTL:P3D
REFRESH-INTERVAL:P3D
CALSCALE:GREGORIAN
BEGIN:VEVENT
DTSTART:20190215T200000Z
DTEND:20190215T220000Z
X-MICROSOFT-CDO-ALLDAYEVENT:FALSE
SUMMARY:Product Photography
DESCRIPTION:Want to set up an online store? Getting new products in and want to make sure they look great on Facebook? Our product photography workshop will cover how to set up the picture (background\, lighting\, etc.)\; how to set up the photo (yes\, you can use your smartphone!)\; basic photo editing using free software\, and different styles of photography you can use in your online store. As part of the workshop\, we'll have a photography area set up (lighting with neutral background) if you'd like to take some of your own product photos. Happy Hour after the presentation and practice session
X-ALT-DESC;FMTTYPE=text/html:Want to set up an online store? Getting new products in and want to make sure they look great on Facebook? Our product photography workshop will cover how to set up the picture (background\, lighting\, etc.)\; how to set up the photo (yes\, you can use your smartphone!)\; basic photo editing using free software\, and different styles of photography you can use in your online store. As part of the workshop\, we&#39\;ll have a photography area set up (lighting with neutral background) if you&#39\;d like to take some of your own product photos. Happy Hour after the presentation and practice session
LOCATION:Anchorspace Bar Harbor 337 Main Street Bar Harbor Maine 04609
UID:e.3061.5086
SEQUENCE:3
DTSTAMP:20260420T062421Z
URL:https://www.visitbarharbor.com/events/details/product-photography-5086
END:VEVENT

END:VCALENDAR
