BEGIN:VCALENDAR
VERSION:2.0
PRODID:-//ChamberMaster//Event Calendar 2.0//EN
METHOD:PUBLISH
X-PUBLISHED-TTL:P3D
REFRESH-INTERVAL:P3D
CALSCALE:GREGORIAN
BEGIN:VEVENT
DTSTART:20181130T230000Z
DTEND:20181201T013000Z
X-MICROSOFT-CDO-ALLDAYEVENT:FALSE
SUMMARY:Printmaking & Poetry - Create & sip
DESCRIPTION:Pick out a poem or write your own and create a linocut print inspired by it.\n\nThis is a perfect project for making cards for friends and family or just wonderful matted works of art.\n\nThe printmaking process allows you to make one design and print it as many times as you would like\, continuously and on a variety of surfaces\; fabric maps\, paper. Bring home your lino cut plate and all your prints! Choose one to matt to frame for your walls or as a gift.Change up color choices\, position\, location\, etc.\n\nOh! and try out our retro vintage typewriter! \n\nAll tools\, materials\, wine and tea are provided.\n\nJessica Harris instructor
X-ALT-DESC;FMTTYPE=text/html:<div><span style="font-size:14px"><span style="font-family:tahoma">Pick out a poem or write your own and create a linocut print inspired by it.<br />\nThis is a perfect project for making cards for friends and family or just wonderful matted works of art.<br />\nThe printmaking process allows you to make one design and print it as many times as you would like\, continuously and on a variety of surfaces\; fabric maps\, paper. Bring home your lino cut plate and all your prints! Choose one to matt to frame for your walls or as a gift.<span style="color:rgb(46\, 46\, 46)">Change up color choices\, position\, location\, etc.<br />\n<span style="font-family:courier new">Oh! and try out our retro vintage typewriter! </span><br />\nAll tools\, materials\, wine and tea are provided.</span><br />\nJessica Harris instructor</span></span></div>\n
LOCATION:ArtWaves\, 1345-A ME-102\, Bar Harbor\, ME 04609\, USA Instructor: Jessica Harris
UID:e.3061.4515
SEQUENCE:3
DTSTAMP:20260420T113001Z
URL:https://www.visitbarharbor.com/events/details/printmaking-poetry-create-sip-4515
END:VEVENT

END:VCALENDAR
