BEGIN:VCALENDAR
VERSION:2.0
PRODID:-//ChamberMaster//Event Calendar 2.0//EN
METHOD:PUBLISH
X-PUBLISHED-TTL:P3D
REFRESH-INTERVAL:P3D
CALSCALE:GREGORIAN
BEGIN:VEVENT
DTSTART:20180629T220000Z
DTEND:20180630T000000Z
X-MICROSOFT-CDO-ALLDAYEVENT:FALSE
SUMMARY:Print the Park - a fundraiser for Island Connections
DESCRIPTION:Spend the evening creating a series of Monochromatic Mono prints. This is a simple process that gives striking results on your first try. Our step by step instructions\, demonstrations\, tools\, inks and assorted papers will have you pulling prints and ready to try this one at home! Take home a folder full of original prints\, cards and select one to mat for framing!
X-ALT-DESC;FMTTYPE=text/html:Spend the evening creating a series of Monochromatic Mono prints. This is a simple process that gives striking results on your first try. Our step by step instructions\, demonstrations\, tools\, inks and assorted papers will have you pulling prints and ready to try this one at home! Take home a folder full of original prints\, cards and select one to mat for framing!
LOCATION:ArtWaves 1345-A Highway 102 Town Hill Village Bar Harbor\, ME 04609
UID:e.3061.2943
SEQUENCE:3
DTSTAMP:20260420T215507Z
URL:https://www.visitbarharbor.com/events/details/print-the-park-a-fundraiser-for-island-connections-2943
END:VEVENT

END:VCALENDAR
