BEGIN:VCALENDAR
VERSION:2.0
PRODID:-//ChamberMaster//Event Calendar 2.0//EN
METHOD:PUBLISH
X-PUBLISHED-TTL:P3D
REFRESH-INTERVAL:P3D
CALSCALE:GREGORIAN
BEGIN:VEVENT
DTSTART:20190112T000000Z
DTEND:20190112T000000Z
X-MICROSOFT-CDO-ALLDAYEVENT:FALSE
SUMMARY:Print ‘n’ Sip: Dragonfly Linocut with ArtWaves
DESCRIPTION:Create miniature block prints with Liz Culter from ArtWaves at the Jesup Memorial Library on Friday\, Jan. 11 at 7 p.m. at a Sip 'n' Print. You will make your own dragonfly linocut that you can take with you at the end of the workshop as well as your own prints.\n\n \n\nFirst participants will do their own linocut of a dragonfly. After that you will use vibrant Akua inks to ink up your linocut and select from an array of papers to pull mini prints. At the end of the workshop\, take home your prints as well as one matted print and your linocut to keep printing at home. \n\n \n\nThis workshop is for adults\, 21 years and older. Registration is required. For more information or to register for this event\, contact the Jesup at 207-288-4245 or mrice@jesuplibrary.org.
X-ALT-DESC;FMTTYPE=text/html:<span style="font-family:times new roman\,serif"><span style="font-size:14.0pt">Create miniature block prints with Liz Culter from ArtWaves at the Jesup Memorial Library on Friday\, Jan. 11 at 7 p.m. at a Sip &lsquo\;n&rsquo\; Print. You will make your own dragonfly linocut that you can take with you at the end of the workshop as well as your own prints.</span></span><br />\n&nbsp\;<br />\n<span style="font-family:times new roman\,serif"><span style="font-size:14.0pt">First participants will do their own linocut of a dragonfly. After that you will use vibrant Akua inks to ink up your linocut and select from an array of papers to pull mini prints. At the end of the workshop\, take home your prints as well as one matted print and your linocut to keep printing at home. </span></span><br />\n&nbsp\;<br />\n<span style="font-family:times new roman\,serif"><span style="font-size:14.0pt"><span>This workshop is for adults\, 21 years and older. Registration is required. For more information or to register for this event\, contact the Jesup at <span class="gc-cs-link" id="gc-number-0" title="Call with Google Voice">207-288-4245</span> or </span><a href="mailto:mrice@jesuplibrary.org">mrice@jesuplibrary.org</a></span>.&nbsp\;</span>
LOCATION:Jesup Memorial Library\, 34 Mt. Desert St.\, Bar Harbor\, ME 04609
UID:e.3061.4840
SEQUENCE:3
DTSTAMP:20260420T081814Z
URL:https://www.visitbarharbor.com/events/details/print-n-sip-dragonfly-linocut-with-artwaves-4840
END:VEVENT

END:VCALENDAR
