BEGIN:VCALENDAR
VERSION:2.0
PRODID:-//ChamberMaster//Event Calendar 2.0//EN
METHOD:PUBLISH
X-PUBLISHED-TTL:P3D
REFRESH-INTERVAL:P3D
CALSCALE:GREGORIAN
BEGIN:VEVENT
DTSTART:20180818T133000Z
DTEND:20180818T160000Z
X-MICROSOFT-CDO-ALLDAYEVENT:FALSE
SUMMARY:Pottery - RAKU
DESCRIPTION:Raku is based on a tradition Japanese process where specially formulated clay is used to hand build objects and pots. These are then dried\, glazed and fired in a small\, gas-fired kiln. Pots are removed from the kiln red hot and placed in closed containers full of materials such as saw dust and leaves and allowed to smoke. ArtWaves will supply all materials for this workshop\, inlcuding clay and instructions for creating objects. Raku glazes will also be available. Students can make and fire as many pieces as they can reasonably complete in 2.5 hours. \n\nInstructors: Roberta and Alan Sprague. \n\n$60 Non-Members$50 Members  Saturday\, June 9: 12-2:30pm Registration is limited-https://www.artwavesmdi.org/product-page/raku-pottery-workshop-2
X-ALT-DESC;FMTTYPE=text/html:<span style="font-size:14px"><span style="font-family:verdana">Raku is based on a tradition Japanese process where specially formulated clay is used to hand build objects and pots. These are then dried\, glazed and fired in a small\, gas-fired kiln. Pots are removed from the kiln red hot and placed in closed containers full of materials such as saw dust and leaves and allowed to smoke.&nbsp\;</span></span><span style="background-color:rgb(254\, 253\, 253)\; color:rgb(46\, 46\, 46)\; font-family:verdana\; font-size:14px">ArtWaves will supply all materials for this workshop\, inlcuding clay and instructions for creating objects. Raku glazes will also be available. Students can make and fire as many pieces as they can reasonably complete in 2.5 hours.&nbsp\;</span><br />\n<span style="font-family:verdana\; font-size:14px">Instructors: Roberta and Alan Sprague.&nbsp\;<br />\n$60&nbsp\;Non-Members$50 Members &nbsp\;Saturday\, June 9:&nbsp\;12-2:30pm Registration is limited-</span>https://www.artwavesmdi.org/product-page/raku-pottery-workshop-2
LOCATION:ArtWaves 1345 State Highway 102 Village of Town Hill\, Bar Harbor 04609
UID:e.3061.2180
SEQUENCE:3
DTSTAMP:20260420T164938Z
URL:https://www.visitbarharbor.com/events/details/pottery-raku-05-08-2018-2180
END:VEVENT

END:VCALENDAR
